BEGIN:VCALENDAR
VERSION:2.0
PRODID:-//Riverfront Park - ECPv6.15.18//NONSGML v1.0//EN
CALSCALE:GREGORIAN
METHOD:PUBLISH
X-WR-CALNAME:Riverfront Park
X-ORIGINAL-URL:https://aspinwallriverfrontpark.org
X-WR-CALDESC:Events for Riverfront Park
REFRESH-INTERVAL;VALUE=DURATION:PT1H
X-Robots-Tag:noindex
X-PUBLISHED-TTL:PT1H
BEGIN:VTIMEZONE
TZID:America/New_York
BEGIN:DAYLIGHT
TZOFFSETFROM:-0500
TZOFFSETTO:-0400
TZNAME:EDT
DTSTART:20190310T070000
END:DAYLIGHT
BEGIN:STANDARD
TZOFFSETFROM:-0400
TZOFFSETTO:-0500
TZNAME:EST
DTSTART:20191103T060000
END:STANDARD
BEGIN:DAYLIGHT
TZOFFSETFROM:-0500
TZOFFSETTO:-0400
TZNAME:EDT
DTSTART:20200308T070000
END:DAYLIGHT
BEGIN:STANDARD
TZOFFSETFROM:-0400
TZOFFSETTO:-0500
TZNAME:EST
DTSTART:20201101T060000
END:STANDARD
BEGIN:DAYLIGHT
TZOFFSETFROM:-0500
TZOFFSETTO:-0400
TZNAME:EDT
DTSTART:20210314T070000
END:DAYLIGHT
BEGIN:STANDARD
TZOFFSETFROM:-0400
TZOFFSETTO:-0500
TZNAME:EST
DTSTART:20211107T060000
END:STANDARD
END:VTIMEZONE
BEGIN:VEVENT
DTSTART;TZID=America/New_York:20201129T100000
DTEND;TZID=America/New_York:20201129T140000
DTSTAMP:20260425T175054
CREATED:20201009T115728Z
LAST-MODIFIED:20201009T115853Z
UID:5494-1606644000-1606658400@aspinwallriverfrontpark.org
SUMMARY:Farmer x Baker - Brunch
DESCRIPTION:Join us for Brunch at the Park!
URL:https://aspinwallriverfrontpark.org/calendar/farmer-x-baker-brunch-4/
CATEGORIES:Farmer+Baker
END:VEVENT
BEGIN:VEVENT
DTSTART;TZID=America/New_York:20201128T100000
DTEND;TZID=America/New_York:20201128T140000
DTSTAMP:20260425T175054
CREATED:20201009T120516Z
LAST-MODIFIED:20201009T121159Z
UID:5496-1606557600-1606572000@aspinwallriverfrontpark.org
SUMMARY:Farmer x Baker - Brunch
DESCRIPTION:Join us for delicious brunch at the Park!
URL:https://aspinwallriverfrontpark.org/calendar/farmer-x-baker-brunch-5/
CATEGORIES:Farmer+Baker
END:VEVENT
BEGIN:VEVENT
DTSTART;TZID=America/New_York:20201126T080000
DTEND;TZID=America/New_York:20201126T170000
DTSTAMP:20260425T175054
CREATED:20201007T222023Z
LAST-MODIFIED:20201007T222023Z
UID:5465-1606377600-1606410000@aspinwallriverfrontpark.org
SUMMARY:Happy Thanksgiving!
DESCRIPTION:Happy Thanksgiving!
URL:https://aspinwallriverfrontpark.org/calendar/happy-thanksgiving/
END:VEVENT
BEGIN:VEVENT
DTSTART;TZID=America/New_York:20201122T100000
DTEND;TZID=America/New_York:20201122T140000
DTSTAMP:20260425T175054
CREATED:20201009T115646Z
LAST-MODIFIED:20201009T115942Z
UID:5492-1606039200-1606053600@aspinwallriverfrontpark.org
SUMMARY:Farmer x Baker - Brunch
DESCRIPTION:Join us for Brunch at the Park!
URL:https://aspinwallriverfrontpark.org/calendar/farmer-x-baker-brunch-3/
CATEGORIES:Farmer+Baker
END:VEVENT
BEGIN:VEVENT
DTSTART;TZID=America/New_York:20201121T100000
DTEND;TZID=America/New_York:20201121T140000
DTSTAMP:20260425T175054
CREATED:20201009T120604Z
LAST-MODIFIED:20201009T120604Z
UID:5498-1605952800-1605967200@aspinwallriverfrontpark.org
SUMMARY:Farmer x Baker - Brunch
DESCRIPTION:Join us for delicious brunch at the Park!
URL:https://aspinwallriverfrontpark.org/calendar/farmer-x-baker-brunch-6/
CATEGORIES:Farmer+Baker
END:VEVENT
BEGIN:VEVENT
DTSTART;TZID=America/New_York:20201120T090000
DTEND;TZID=America/New_York:20201120T140000
DTSTAMP:20260425T175054
CREATED:20201009T113147Z
LAST-MODIFIED:20201009T113147Z
UID:5477-1605862800-1605880800@aspinwallriverfrontpark.org
SUMMARY:FarmerBaker- Grab n Go
DESCRIPTION:Grab a coffee and a snack to-go with Farmer Baker.
URL:https://aspinwallriverfrontpark.org/calendar/farmerbaker-grab-n-go-7/
CATEGORIES:Farmer+Baker
END:VEVENT
BEGIN:VEVENT
DTSTART;TZID=America/New_York:20201119T180000
DTEND;TZID=America/New_York:20201119T210000
DTSTAMP:20260425T175054
CREATED:20201116T151038Z
LAST-MODIFIED:20201116T151038Z
UID:5561-1605808800-1605819600@aspinwallriverfrontpark.org
SUMMARY:Univ. of Pittsburgh Art Exhibit
DESCRIPTION:Exhibits from students who attend the University of Pittsburgh – Studio Arts Department.
URL:https://aspinwallriverfrontpark.org/calendar/univ-of-pittsburgh-art-exhibit/
END:VEVENT
BEGIN:VEVENT
DTSTART;TZID=America/New_York:20201119T093000
DTEND;TZID=America/New_York:20201119T103000
DTSTAMP:20260425T175054
CREATED:20201007T221424Z
LAST-MODIFIED:20201007T221424Z
UID:5453-1605778200-1605781800@aspinwallriverfrontpark.org
SUMMARY:Kindermusik Class
DESCRIPTION:International Music and Movement for  children (12 months thru 4 years old) and their caregivers. Intentional touch\, baby signs\, instrument exploration and more….all while creating a safe little village each week for your children to relax and experience all of the joy that learning new things…and melodies can bring.
URL:https://aspinwallriverfrontpark.org/calendar/kindermusik-class-29/
CATEGORIES:Kindermusik
END:VEVENT
BEGIN:VEVENT
DTSTART;TZID=America/New_York:20201119T090000
DTEND;TZID=America/New_York:20201119T140000
DTSTAMP:20260425T175054
CREATED:20201009T113104Z
LAST-MODIFIED:20201009T113104Z
UID:5475-1605776400-1605794400@aspinwallriverfrontpark.org
SUMMARY:FarmerBaker-Grab n Go
DESCRIPTION:Grab a coffee and a snack to-go with Farmer Baker.
URL:https://aspinwallriverfrontpark.org/calendar/farmerbaker-grab-n-go-6/
CATEGORIES:Farmer+Baker
END:VEVENT
BEGIN:VEVENT
DTSTART;TZID=America/New_York:20201118T093000
DTEND;TZID=America/New_York:20201118T103000
DTSTAMP:20260425T175054
CREATED:20201007T221346Z
LAST-MODIFIED:20201007T221346Z
UID:5451-1605691800-1605695400@aspinwallriverfrontpark.org
SUMMARY:Kindermusik Class
DESCRIPTION:International Music and Movement for  children (12 months thru 4 years old) and their caregivers. Intentional touch\, baby signs\, instrument exploration and more….all while creating a safe little village each week for your children to relax and experience all of the joy that learning new things…and melodies can bring.
URL:https://aspinwallriverfrontpark.org/calendar/kindermusik-class-28/
CATEGORIES:Kindermusik
END:VEVENT
BEGIN:VEVENT
DTSTART;TZID=America/New_York:20201116T093000
DTEND;TZID=America/New_York:20201116T103000
DTSTAMP:20260425T175054
CREATED:20201007T221259Z
LAST-MODIFIED:20201007T221259Z
UID:5449-1605519000-1605522600@aspinwallriverfrontpark.org
SUMMARY:Kindermusik Class
DESCRIPTION:International Music and Movement for  children (12 months thru 4 years old) and their caregivers. Intentional touch\, baby signs\, instrument exploration and more….all while creating a safe little village each week for your children to relax and experience all of the joy that learning new things…and melodies can bring.
URL:https://aspinwallriverfrontpark.org/calendar/kindermusik-class-27/
CATEGORIES:Kindermusik
END:VEVENT
BEGIN:VEVENT
DTSTART;TZID=America/New_York:20201115T100000
DTEND;TZID=America/New_York:20201115T140000
DTSTAMP:20260425T175054
CREATED:20201009T115556Z
LAST-MODIFIED:20201009T120021Z
UID:5490-1605434400-1605448800@aspinwallriverfrontpark.org
SUMMARY:Farmer x Baker - Brunch
DESCRIPTION:Join us for Brunch at the Park!
URL:https://aspinwallriverfrontpark.org/calendar/farmer-x-baker-brunch-2/
CATEGORIES:Farmer+Baker
END:VEVENT
BEGIN:VEVENT
DTSTART;TZID=America/New_York:20201114T000000
DTEND;TZID=America/New_York:20201114T140000
DTSTAMP:20260425T175054
CREATED:20201009T120652Z
LAST-MODIFIED:20201009T121026Z
UID:5500-1605312000-1605362400@aspinwallriverfrontpark.org
SUMMARY:Farmer x Baker - Brunch
DESCRIPTION:Join us for delicious brunch at the Park!
URL:https://aspinwallriverfrontpark.org/calendar/farmer-x-baker-brunch-7/
CATEGORIES:Farmer+Baker
END:VEVENT
BEGIN:VEVENT
DTSTART;TZID=America/New_York:20201113T163000
DTEND;TZID=America/New_York:20201113T200000
DTSTAMP:20260425T175054
CREATED:20201009T115016Z
LAST-MODIFIED:20201111T003654Z
UID:5482-1605285000-1605297600@aspinwallriverfrontpark.org
SUMMARY:The Steer and Wheel Food Truck
DESCRIPTION:Our mission is to bring you better burgers. The Steer and Wheel exists to take your Gourmet Burger to a higher level!
URL:https://aspinwallriverfrontpark.org/calendar/farmer-x-baker-dinner-5/
LOCATION:Aspinwall Riverfront Park\, PA
CATEGORIES:Farmer+Baker
END:VEVENT
BEGIN:VEVENT
DTSTART;TZID=America/New_York:20201112T093000
DTEND;TZID=America/New_York:20201112T103000
DTSTAMP:20260425T175054
CREATED:20201007T221137Z
LAST-MODIFIED:20201007T221137Z
UID:5447-1605173400-1605177000@aspinwallriverfrontpark.org
SUMMARY:Kindermusik Class
DESCRIPTION:International Music and Movement for  children (12 months thru 4 years old) and their caregivers. Intentional touch\, baby signs\, instrument exploration and more….all while creating a safe little village each week for your children to relax and experience all of the joy that learning new things…and melodies can bring.
URL:https://aspinwallriverfrontpark.org/calendar/kindermusik-class-26/
CATEGORIES:Kindermusik
END:VEVENT
BEGIN:VEVENT
DTSTART;TZID=America/New_York:20201112T090000
DTEND;TZID=America/New_York:20201112T140000
DTSTAMP:20260425T175054
CREATED:20201009T112930Z
LAST-MODIFIED:20201009T112930Z
UID:5471-1605171600-1605189600@aspinwallriverfrontpark.org
SUMMARY:FarmerBaker- Grab n Go
DESCRIPTION:Grab a coffee and a snack to-go with Farmer Baker.
URL:https://aspinwallriverfrontpark.org/calendar/farmerbaker-grab-n-go-4/
CATEGORIES:Farmer+Baker
END:VEVENT
BEGIN:VEVENT
DTSTART;TZID=America/New_York:20201111T093000
DTEND;TZID=America/New_York:20201111T103000
DTSTAMP:20260425T175054
CREATED:20201007T221056Z
LAST-MODIFIED:20201007T221056Z
UID:5445-1605087000-1605090600@aspinwallriverfrontpark.org
SUMMARY:Kindermusik Class
DESCRIPTION:International Music and Movement for  children (12 months thru 4 years old) and their caregivers. Intentional touch\, baby signs\, instrument exploration and more….all while creating a safe little village each week for your children to relax and experience all of the joy that learning new things…and melodies can bring.
URL:https://aspinwallriverfrontpark.org/calendar/kindermusik-class-25/
CATEGORIES:Kindermusik
END:VEVENT
BEGIN:VEVENT
DTSTART;TZID=America/New_York:20201109T093000
DTEND;TZID=America/New_York:20201109T103000
DTSTAMP:20260425T175054
CREATED:20201007T221012Z
LAST-MODIFIED:20201007T221012Z
UID:5443-1604914200-1604917800@aspinwallriverfrontpark.org
SUMMARY:Kindermusik Class
DESCRIPTION:International Music and Movement for  children (12 months thru 4 years old) and their caregivers. Intentional touch\, baby signs\, instrument exploration and more….all while creating a safe little village each week for your children to relax and experience all of the joy that learning new things…and melodies can bring.
URL:https://aspinwallriverfrontpark.org/calendar/kindermusik-class-24/
CATEGORIES:Kindermusik
END:VEVENT
BEGIN:VEVENT
DTSTART;TZID=America/New_York:20201108T150000
DTEND;TZID=America/New_York:20201108T180000
DTSTAMP:20260425T175054
CREATED:20201007T221837Z
LAST-MODIFIED:20201028T184909Z
UID:5461-1604847600-1604858400@aspinwallriverfrontpark.org
SUMMARY:Drum Circle
DESCRIPTION:You are invited to celebrate life\, community and music making in a beautiful park setting! FREE to the Public!
URL:https://aspinwallriverfrontpark.org/calendar/drum-circle-45/
CATEGORIES:Drum Circle
END:VEVENT
BEGIN:VEVENT
DTSTART;TZID=America/New_York:20201108T100000
DTEND;TZID=America/New_York:20201108T140000
DTSTAMP:20260425T175054
CREATED:20201009T115441Z
LAST-MODIFIED:20201009T120050Z
UID:5488-1604829600-1604844000@aspinwallriverfrontpark.org
SUMMARY:Farmer x Baker - Brunch
DESCRIPTION:Join us for Brunch at the Park!
URL:https://aspinwallriverfrontpark.org/calendar/farmer-x-baker-brunch/
CATEGORIES:Farmer+Baker
END:VEVENT
BEGIN:VEVENT
DTSTART;TZID=America/New_York:20201107T100000
DTEND;TZID=America/New_York:20201107T140000
DTSTAMP:20260425T175054
CREATED:20201009T120730Z
LAST-MODIFIED:20201009T120730Z
UID:5502-1604743200-1604757600@aspinwallriverfrontpark.org
SUMMARY:Farmer x Baker - Brunch
DESCRIPTION:Join us for delicious brunch at the Park!
URL:https://aspinwallriverfrontpark.org/calendar/farmer-x-baker-brunch-8/
CATEGORIES:Farmer+Baker
END:VEVENT
BEGIN:VEVENT
DTSTART;TZID=America/New_York:20201106T170000
DTEND;TZID=America/New_York:20201106T210000
DTSTAMP:20260425T175054
CREATED:20201009T114840Z
LAST-MODIFIED:20201009T114924Z
UID:5479-1604682000-1604696400@aspinwallriverfrontpark.org
SUMMARY:FarmerxBaker - Dinner
DESCRIPTION:Farmer x Baker is a seasonally inspired café founded by Farmer Jen Urich owner of Root & Heart Farm. Located at the Aspinwall Riverfront Park!\nWith a Farmer Forward menu daily at FxB we work to create a space where our guests can connect with nature through our food & spirits\, highlighting the best ingredients Pennsylvania has to offer.
URL:https://aspinwallriverfrontpark.org/calendar/farmerxbaker-dinner-hours/
CATEGORIES:Farmer+Baker
END:VEVENT
BEGIN:VEVENT
DTSTART;TZID=America/New_York:20201106T090000
DTEND;TZID=America/New_York:20201106T140000
DTSTAMP:20260425T175054
CREATED:20201009T112844Z
LAST-MODIFIED:20201009T112844Z
UID:5469-1604653200-1604671200@aspinwallriverfrontpark.org
SUMMARY:FarmerBaker-Grab n Go
DESCRIPTION:Grab a coffee and a snack to-go with Farmer Baker.
URL:https://aspinwallriverfrontpark.org/calendar/farmerbaker-grab-n-go-3/
CATEGORIES:Farmer+Baker
END:VEVENT
BEGIN:VEVENT
DTSTART;TZID=America/New_York:20201105T093000
DTEND;TZID=America/New_York:20201105T103000
DTSTAMP:20260425T175054
CREATED:20201007T220450Z
LAST-MODIFIED:20201007T220450Z
UID:5438-1604568600-1604572200@aspinwallriverfrontpark.org
SUMMARY:Kindermusik Class
DESCRIPTION:International Music and Movement for  children (12 months thru 4 years old) and their caregivers. Intentional touch\, baby signs\, instrument exploration and more….all while creating a safe little village each week for your children to relax and experience all of the joy that learning new things…and melodies can bring.
URL:https://aspinwallriverfrontpark.org/calendar/kindermusik-class-22/
CATEGORIES:Kindermusik
END:VEVENT
BEGIN:VEVENT
DTSTART;TZID=America/New_York:20201105T090000
DTEND;TZID=America/New_York:20201105T140000
DTSTAMP:20260425T175054
CREATED:20201009T112723Z
LAST-MODIFIED:20201009T112723Z
UID:5467-1604566800-1604584800@aspinwallriverfrontpark.org
SUMMARY:FarmerBaker-Grab n Go
DESCRIPTION:Grab a coffee and a snack to-go with Farmer Baker.
URL:https://aspinwallriverfrontpark.org/calendar/farmerbaker-grab-n-go-2/
CATEGORIES:Farmer+Baker
END:VEVENT
BEGIN:VEVENT
DTSTART;TZID=America/New_York:20201104T093000
DTEND;TZID=America/New_York:20201104T103000
DTSTAMP:20260425T175054
CREATED:20201007T220400Z
LAST-MODIFIED:20201007T220400Z
UID:5436-1604482200-1604485800@aspinwallriverfrontpark.org
SUMMARY:Kindermusik Class
DESCRIPTION:International Music and Movement for  children (12 months thru 4 years old) and their caregivers. Intentional touch\, baby signs\, instrument exploration and more….all while creating a safe little village each week for your children to relax and experience all of the joy that learning new things…and melodies can bring.
URL:https://aspinwallriverfrontpark.org/calendar/kindermusik-class-21/
CATEGORIES:Kindermusik
END:VEVENT
BEGIN:VEVENT
DTSTART;TZID=America/New_York:20201102T093000
DTEND;TZID=America/New_York:20201102T103000
DTSTAMP:20260425T175054
CREATED:20201007T220557Z
LAST-MODIFIED:20201007T220557Z
UID:5440-1604309400-1604313000@aspinwallriverfrontpark.org
SUMMARY:Kindermusik Class
DESCRIPTION:International Music and Movement for  children (12 months thru 4 years old) and their caregivers. Intentional touch\, baby signs\, instrument exploration and more….all while creating a safe little village each week for your children to relax and experience all of the joy that learning new things…and melodies can bring.
URL:https://aspinwallriverfrontpark.org/calendar/kindermusik-class-23/
CATEGORIES:Kindermusik
END:VEVENT
BEGIN:VEVENT
DTSTART;TZID=America/New_York:20201101T100000
DTEND;TZID=America/New_York:20201101T140000
DTSTAMP:20260425T175054
CREATED:20200927T015835Z
LAST-MODIFIED:20200927T015835Z
UID:5389-1604224800-1604239200@aspinwallriverfrontpark.org
SUMMARY:Farmer x Baker
DESCRIPTION:Join us for Brunch at the Park!
URL:https://aspinwallriverfrontpark.org/calendar/farmer-x-baker-24/
CATEGORIES:Farmer+Baker
END:VEVENT
BEGIN:VEVENT
DTSTART;TZID=America/New_York:20201031T100000
DTEND;TZID=America/New_York:20201031T140000
DTSTAMP:20260425T175054
CREATED:20200927T015753Z
LAST-MODIFIED:20200927T015753Z
UID:5387-1604138400-1604152800@aspinwallriverfrontpark.org
SUMMARY:Farmer x Baker
DESCRIPTION:Join us for Brunch at the Park!
URL:https://aspinwallriverfrontpark.org/calendar/farmer-x-baker-23/
CATEGORIES:Farmer+Baker
END:VEVENT
BEGIN:VEVENT
DTSTART;TZID=America/New_York:20201030T170000
DTEND;TZID=America/New_York:20201030T210000
DTSTAMP:20260425T175054
CREATED:20200927T021102Z
LAST-MODIFIED:20200927T021102Z
UID:5397-1604077200-1604091600@aspinwallriverfrontpark.org
SUMMARY:Farmer x Baker - Dinner
DESCRIPTION:Farmer x Baker is a seasonally inspired café founded by Farmer Jen Urich owner of Root & Heart Farm. Located at the Aspinwall Riverfront Park!\nWith a Farmer Forward menu daily at FxB we work to create a space where our guests can connect with nature through our food & spirits\, highlighting the best ingredients Pennsylvania has to offer.
URL:https://aspinwallriverfrontpark.org/calendar/farmer-x-baker-dinner-4/
CATEGORIES:Farmer+Baker
END:VEVENT
END:VCALENDAR