BEGIN:VCALENDAR
VERSION:2.0
PRODID:-//Riverfront Park - ECPv6.15.18//NONSGML v1.0//EN
CALSCALE:GREGORIAN
METHOD:PUBLISH
X-ORIGINAL-URL:https://aspinwallriverfrontpark.org
X-WR-CALDESC:Events for Riverfront Park
REFRESH-INTERVAL;VALUE=DURATION:PT1H
X-Robots-Tag:noindex
X-PUBLISHED-TTL:PT1H
BEGIN:VTIMEZONE
TZID:America/New_York
BEGIN:DAYLIGHT
TZOFFSETFROM:-0500
TZOFFSETTO:-0400
TZNAME:EDT
DTSTART:20200308T070000
END:DAYLIGHT
BEGIN:STANDARD
TZOFFSETFROM:-0400
TZOFFSETTO:-0500
TZNAME:EST
DTSTART:20201101T060000
END:STANDARD
BEGIN:DAYLIGHT
TZOFFSETFROM:-0500
TZOFFSETTO:-0400
TZNAME:EDT
DTSTART:20210314T070000
END:DAYLIGHT
BEGIN:STANDARD
TZOFFSETFROM:-0400
TZOFFSETTO:-0500
TZNAME:EST
DTSTART:20211107T060000
END:STANDARD
BEGIN:DAYLIGHT
TZOFFSETFROM:-0500
TZOFFSETTO:-0400
TZNAME:EDT
DTSTART:20220313T070000
END:DAYLIGHT
BEGIN:STANDARD
TZOFFSETFROM:-0400
TZOFFSETTO:-0500
TZNAME:EST
DTSTART:20221106T060000
END:STANDARD
END:VTIMEZONE
BEGIN:VEVENT
DTSTART;TZID=America/New_York:20210505T170000
DTEND;TZID=America/New_York:20210505T200000
DTSTAMP:20260425T090940
CREATED:20210502T231500Z
LAST-MODIFIED:20210502T231500Z
UID:6317-1620234000-1620244800@aspinwallriverfrontpark.org
SUMMARY:Steer and Wheel Food Truck
DESCRIPTION:Join us for burgers at the park.  A staple from last Summer.  Get here early as the burgers sell out quick!!
URL:https://aspinwallriverfrontpark.org/calendar/steer-and-wheel-food-truck/
CATEGORIES:General
END:VEVENT
BEGIN:VEVENT
DTSTART;TZID=America/New_York:20210505T093000
DTEND;TZID=America/New_York:20210505T103000
DTSTAMP:20260425T090940
CREATED:20210228T223718Z
LAST-MODIFIED:20210228T223718Z
UID:5756-1620207000-1620210600@aspinwallriverfrontpark.org
SUMMARY:Kindermusik
DESCRIPTION:
URL:https://aspinwallriverfrontpark.org/calendar/kindermusik-61/
CATEGORIES:Kindermusik
END:VEVENT
BEGIN:VEVENT
DTSTART;TZID=America/New_York:20210504T170000
DTEND;TZID=America/New_York:20210504T200000
DTSTAMP:20260425T090940
CREATED:20210502T231323Z
LAST-MODIFIED:20210502T231323Z
UID:6315-1620147600-1620158400@aspinwallriverfrontpark.org
SUMMARY:La Palapa Food Truck
DESCRIPTION:Tacos\, tacos\, tacos!!!! The second truck of the season.  Join us for dinner.
URL:https://aspinwallriverfrontpark.org/calendar/la-palapa-food-truck/
END:VEVENT
BEGIN:VEVENT
DTSTART;TZID=America/New_York:20210503T170000
DTEND;TZID=America/New_York:20210503T170000
DTSTAMP:20260425T090940
CREATED:20210502T230927Z
LAST-MODIFIED:20210502T230927Z
UID:6313-1620061200-1620061200@aspinwallriverfrontpark.org
SUMMARY:Tocayo Food Truck
DESCRIPTION:A taqueira truck bringing great eats from the Shadyside area.  Their first time here!
URL:https://aspinwallriverfrontpark.org/calendar/tocayo-food-truck/
CATEGORIES:General
END:VEVENT
BEGIN:VEVENT
DTSTART;TZID=America/New_York:20210503T093000
DTEND;TZID=America/New_York:20210503T103000
DTSTAMP:20260425T090940
CREATED:20210228T223634Z
LAST-MODIFIED:20210228T223634Z
UID:5754-1620034200-1620037800@aspinwallriverfrontpark.org
SUMMARY:Kindermusik
DESCRIPTION:
URL:https://aspinwallriverfrontpark.org/calendar/kindermusik-60/
CATEGORIES:Kindermusik
END:VEVENT
BEGIN:VEVENT
DTSTART;TZID=America/New_York:20210503T080000
DTEND;TZID=America/New_York:20210503T170000
DTSTAMP:20260425T090940
CREATED:20210503T201914Z
LAST-MODIFIED:20210503T201914Z
UID:6364-1620028800-1620061200@aspinwallriverfrontpark.org
SUMMARY:Yoga Flow
DESCRIPTION:Sign up for yoga at yogaflowpittsburgh.com
URL:https://aspinwallriverfrontpark.org/calendar/yoga-flow-34/
CATEGORIES:Yoga Flow
END:VEVENT
BEGIN:VEVENT
DTSTART;VALUE=DATE:20210503
DTEND;VALUE=DATE:20210504
DTSTAMP:20260425T090940
CREATED:20210301T221721Z
LAST-MODIFIED:20210301T221721Z
UID:5993-1620000000-1620086399@aspinwallriverfrontpark.org
SUMMARY:Wedding Celebration
DESCRIPTION:This wedding may take place on the fishing dock.  Please be gracious\, the ceremonies are usually under 45 minutes! The parking lot may be very crowded as well!  But please enjoy yourself.
URL:https://aspinwallriverfrontpark.org/calendar/wedding-celebration-44/
CATEGORIES:JPC Event
END:VEVENT
BEGIN:VEVENT
DTSTART;TZID=America/New_York:20210502T100000
DTEND;TZID=America/New_York:20210502T140000
DTSTAMP:20260425T090940
CREATED:20210301T220600Z
LAST-MODIFIED:20210301T220600Z
UID:5938-1619949600-1619964000@aspinwallriverfrontpark.org
SUMMARY:Farmer x Baker
DESCRIPTION:Join the super fantastic Farmer x Baker for brunch.  Coffee and a homemade bagel? Sounds great!  How about a vegan entrée for a light lunch? We got it!! What about a classic Bacon\, Egg and Cheese? We go it!
URL:https://aspinwallriverfrontpark.org/calendar/farmer-x-baker-33-2021-05-02/
CATEGORIES:Farmer+Baker
END:VEVENT
BEGIN:VEVENT
DTSTART;TZID=America/New_York:20210501T100000
DTEND;TZID=America/New_York:20210501T140000
DTSTAMP:20260425T090940
CREATED:20210301T220600Z
LAST-MODIFIED:20210301T220600Z
UID:5937-1619863200-1619877600@aspinwallriverfrontpark.org
SUMMARY:Farmer x Baker
DESCRIPTION:Join the super fantastic Farmer x Baker for brunch.  Coffee and a homemade bagel? Sounds great!  How about a vegan entrée for a light lunch? We got it!! What about a classic Bacon\, Egg and Cheese? We go it!
URL:https://aspinwallriverfrontpark.org/calendar/farmer-x-baker-33-2021-05-01/
CATEGORIES:Farmer+Baker
END:VEVENT
BEGIN:VEVENT
DTSTART;TZID=America/New_York:20210429T093000
DTEND;TZID=America/New_York:20210429T103000
DTSTAMP:20260425T090940
CREATED:20210228T222421Z
LAST-MODIFIED:20210228T222421Z
UID:5752-1619688600-1619692200@aspinwallriverfrontpark.org
SUMMARY:Kindermusik
DESCRIPTION:
URL:https://aspinwallriverfrontpark.org/calendar/kindermusik-59/
CATEGORIES:Kindermusik
END:VEVENT
BEGIN:VEVENT
DTSTART;TZID=America/New_York:20210428T093000
DTEND;TZID=America/New_York:20210428T103000
DTSTAMP:20260425T090940
CREATED:20210228T222341Z
LAST-MODIFIED:20210228T222341Z
UID:5750-1619602200-1619605800@aspinwallriverfrontpark.org
SUMMARY:Kindermusik
DESCRIPTION:
URL:https://aspinwallriverfrontpark.org/calendar/kindermusik-58/
CATEGORIES:Kindermusik
END:VEVENT
BEGIN:VEVENT
DTSTART;TZID=America/New_York:20210426T093000
DTEND;TZID=America/New_York:20210426T103000
DTSTAMP:20260425T090940
CREATED:20210228T222252Z
LAST-MODIFIED:20210228T222252Z
UID:5748-1619429400-1619433000@aspinwallriverfrontpark.org
SUMMARY:Kindermusik
DESCRIPTION:
URL:https://aspinwallriverfrontpark.org/calendar/kindermusik-57/
CATEGORIES:Kindermusik
END:VEVENT
BEGIN:VEVENT
DTSTART;TZID=America/New_York:20210425T100000
DTEND;TZID=America/New_York:20210425T140000
DTSTAMP:20260425T090940
CREATED:20210301T220600Z
LAST-MODIFIED:20210301T220600Z
UID:5936-1619344800-1619359200@aspinwallriverfrontpark.org
SUMMARY:Farmer x Baker
DESCRIPTION:Join the super fantastic Farmer x Baker for brunch.  Coffee and a homemade bagel? Sounds great!  How about a vegan entrée for a light lunch? We got it!! What about a classic Bacon\, Egg and Cheese? We go it!
URL:https://aspinwallriverfrontpark.org/calendar/farmer-x-baker-33-2021-04-25/
CATEGORIES:Farmer+Baker
END:VEVENT
BEGIN:VEVENT
DTSTART;TZID=America/New_York:20210424T100000
DTEND;TZID=America/New_York:20210424T140000
DTSTAMP:20260425T090940
CREATED:20210301T220600Z
LAST-MODIFIED:20210301T220600Z
UID:5935-1619258400-1619272800@aspinwallriverfrontpark.org
SUMMARY:Farmer x Baker
DESCRIPTION:Join the super fantastic Farmer x Baker for brunch.  Coffee and a homemade bagel? Sounds great!  How about a vegan entrée for a light lunch? We got it!! What about a classic Bacon\, Egg and Cheese? We go it!
URL:https://aspinwallriverfrontpark.org/calendar/farmer-x-baker-33-2021-04-24/
CATEGORIES:Farmer+Baker
END:VEVENT
BEGIN:VEVENT
DTSTART;TZID=America/New_York:20210422T093000
DTEND;TZID=America/New_York:20210422T103000
DTSTAMP:20260425T090940
CREATED:20210228T222210Z
LAST-MODIFIED:20210228T222210Z
UID:5746-1619083800-1619087400@aspinwallriverfrontpark.org
SUMMARY:Kindermusik
DESCRIPTION:
URL:https://aspinwallriverfrontpark.org/calendar/kindermusik-56/
CATEGORIES:Kindermusik
END:VEVENT
BEGIN:VEVENT
DTSTART;TZID=America/New_York:20210421T093000
DTEND;TZID=America/New_York:20210421T103000
DTSTAMP:20260425T090940
CREATED:20210228T222110Z
LAST-MODIFIED:20210228T222110Z
UID:5744-1618997400-1619001000@aspinwallriverfrontpark.org
SUMMARY:Kindermusik
DESCRIPTION:
URL:https://aspinwallriverfrontpark.org/calendar/kindermusik-55/
CATEGORIES:Kindermusik
END:VEVENT
BEGIN:VEVENT
DTSTART;TZID=America/New_York:20210419T093000
DTEND;TZID=America/New_York:20210419T103000
DTSTAMP:20260425T090940
CREATED:20210228T222031Z
LAST-MODIFIED:20210228T222031Z
UID:5742-1618824600-1618828200@aspinwallriverfrontpark.org
SUMMARY:Kindermusik
DESCRIPTION:
URL:https://aspinwallriverfrontpark.org/calendar/kindermusik-54/
CATEGORIES:Kindermusik
END:VEVENT
BEGIN:VEVENT
DTSTART;TZID=America/New_York:20210418T100000
DTEND;TZID=America/New_York:20210418T140000
DTSTAMP:20260425T090940
CREATED:20210301T220600Z
LAST-MODIFIED:20210301T220600Z
UID:5934-1618740000-1618754400@aspinwallriverfrontpark.org
SUMMARY:Farmer x Baker
DESCRIPTION:Join the super fantastic Farmer x Baker for brunch.  Coffee and a homemade bagel? Sounds great!  How about a vegan entrée for a light lunch? We got it!! What about a classic Bacon\, Egg and Cheese? We go it!
URL:https://aspinwallriverfrontpark.org/calendar/farmer-x-baker-33-2021-04-18/
CATEGORIES:Farmer+Baker
END:VEVENT
BEGIN:VEVENT
DTSTART;TZID=America/New_York:20210417T100000
DTEND;TZID=America/New_York:20210417T140000
DTSTAMP:20260425T090940
CREATED:20210301T220600Z
LAST-MODIFIED:20210301T220600Z
UID:5933-1618653600-1618668000@aspinwallriverfrontpark.org
SUMMARY:Farmer x Baker
DESCRIPTION:Join the super fantastic Farmer x Baker for brunch.  Coffee and a homemade bagel? Sounds great!  How about a vegan entrée for a light lunch? We got it!! What about a classic Bacon\, Egg and Cheese? We go it!
URL:https://aspinwallriverfrontpark.org/calendar/farmer-x-baker-33-2021-04-17/
CATEGORIES:Farmer+Baker
END:VEVENT
BEGIN:VEVENT
DTSTART;TZID=America/New_York:20210415T093000
DTEND;TZID=America/New_York:20210415T103000
DTSTAMP:20260425T090940
CREATED:20210228T221929Z
LAST-MODIFIED:20210228T221929Z
UID:5740-1618479000-1618482600@aspinwallriverfrontpark.org
SUMMARY:Kindermusik
DESCRIPTION:
URL:https://aspinwallriverfrontpark.org/calendar/kindermusik-53/
CATEGORIES:Kindermusik
END:VEVENT
BEGIN:VEVENT
DTSTART;TZID=America/New_York:20210414T093000
DTEND;TZID=America/New_York:20210414T103000
DTSTAMP:20260425T090940
CREATED:20210228T221845Z
LAST-MODIFIED:20210228T221845Z
UID:5738-1618392600-1618396200@aspinwallriverfrontpark.org
SUMMARY:Kindermusik
DESCRIPTION:
URL:https://aspinwallriverfrontpark.org/calendar/kindermusik-52/
CATEGORIES:Kindermusik
END:VEVENT
BEGIN:VEVENT
DTSTART;TZID=America/New_York:20210412T093000
DTEND;TZID=America/New_York:20210412T103000
DTSTAMP:20260425T090940
CREATED:20210228T221804Z
LAST-MODIFIED:20210228T221804Z
UID:5736-1618219800-1618223400@aspinwallriverfrontpark.org
SUMMARY:Kindermusik
DESCRIPTION:
URL:https://aspinwallriverfrontpark.org/calendar/kindermusik-51/
CATEGORIES:Kindermusik
END:VEVENT
BEGIN:VEVENT
DTSTART;TZID=America/New_York:20210411T100000
DTEND;TZID=America/New_York:20210411T140000
DTSTAMP:20260425T090940
CREATED:20210301T220600Z
LAST-MODIFIED:20210301T220600Z
UID:5932-1618135200-1618149600@aspinwallriverfrontpark.org
SUMMARY:Farmer x Baker
DESCRIPTION:Join the super fantastic Farmer x Baker for brunch.  Coffee and a homemade bagel? Sounds great!  How about a vegan entrée for a light lunch? We got it!! What about a classic Bacon\, Egg and Cheese? We go it!
URL:https://aspinwallriverfrontpark.org/calendar/farmer-x-baker-33-2021-04-11/
CATEGORIES:Farmer+Baker
END:VEVENT
BEGIN:VEVENT
DTSTART;TZID=America/New_York:20210410T100000
DTEND;TZID=America/New_York:20210410T140000
DTSTAMP:20260425T090940
CREATED:20210301T220600Z
LAST-MODIFIED:20210301T220600Z
UID:5931-1618048800-1618063200@aspinwallriverfrontpark.org
SUMMARY:Farmer x Baker
DESCRIPTION:Join the super fantastic Farmer x Baker for brunch.  Coffee and a homemade bagel? Sounds great!  How about a vegan entrée for a light lunch? We got it!! What about a classic Bacon\, Egg and Cheese? We go it!
URL:https://aspinwallriverfrontpark.org/calendar/farmer-x-baker-33-2021-04-10/
CATEGORIES:Farmer+Baker
END:VEVENT
BEGIN:VEVENT
DTSTART;TZID=America/New_York:20210408T093000
DTEND;TZID=America/New_York:20210408T103000
DTSTAMP:20260425T090940
CREATED:20210228T221713Z
LAST-MODIFIED:20210228T221713Z
UID:5734-1617874200-1617877800@aspinwallriverfrontpark.org
SUMMARY:Kindermusik
DESCRIPTION:
URL:https://aspinwallriverfrontpark.org/calendar/kindermusik-50/
CATEGORIES:Kindermusik
END:VEVENT
BEGIN:VEVENT
DTSTART;TZID=America/New_York:20210407T093000
DTEND;TZID=America/New_York:20210407T103000
DTSTAMP:20260425T090940
CREATED:20210228T221623Z
LAST-MODIFIED:20210228T221623Z
UID:5732-1617787800-1617791400@aspinwallriverfrontpark.org
SUMMARY:Kindermusik
DESCRIPTION:
URL:https://aspinwallriverfrontpark.org/calendar/kindermusik-49/
CATEGORIES:Kindermusik
END:VEVENT
BEGIN:VEVENT
DTSTART;TZID=America/New_York:20210405T093000
DTEND;TZID=America/New_York:20210405T103000
DTSTAMP:20260425T090940
CREATED:20210228T221546Z
LAST-MODIFIED:20210228T221546Z
UID:5730-1617615000-1617618600@aspinwallriverfrontpark.org
SUMMARY:Kindermusik
DESCRIPTION:
URL:https://aspinwallriverfrontpark.org/calendar/kindermusik-48/
CATEGORIES:Kindermusik
END:VEVENT
BEGIN:VEVENT
DTSTART;TZID=America/New_York:20210404T100000
DTEND;TZID=America/New_York:20210404T140000
DTSTAMP:20260425T090940
CREATED:20210301T220600Z
LAST-MODIFIED:20210301T220600Z
UID:5930-1617530400-1617544800@aspinwallriverfrontpark.org
SUMMARY:Farmer x Baker
DESCRIPTION:Join the super fantastic Farmer x Baker for brunch.  Coffee and a homemade bagel? Sounds great!  How about a vegan entrée for a light lunch? We got it!! What about a classic Bacon\, Egg and Cheese? We go it!
URL:https://aspinwallriverfrontpark.org/calendar/farmer-x-baker-33-2021-04-04/
CATEGORIES:Farmer+Baker
END:VEVENT
BEGIN:VEVENT
DTSTART;TZID=America/New_York:20210403T100000
DTEND;TZID=America/New_York:20210403T140000
DTSTAMP:20260425T090940
CREATED:20210301T220600Z
LAST-MODIFIED:20210301T220600Z
UID:5928-1617444000-1617458400@aspinwallriverfrontpark.org
SUMMARY:Farmer x Baker
DESCRIPTION:Join the super fantastic Farmer x Baker for brunch.  Coffee and a homemade bagel? Sounds great!  How about a vegan entrée for a light lunch? We got it!! What about a classic Bacon\, Egg and Cheese? We go it!
URL:https://aspinwallriverfrontpark.org/calendar/farmer-x-baker-33/
CATEGORIES:Farmer+Baker
END:VEVENT
BEGIN:VEVENT
DTSTART;TZID=America/New_York:20210401T093000
DTEND;TZID=America/New_York:20210401T103000
DTSTAMP:20260425T090940
CREATED:20210228T221447Z
LAST-MODIFIED:20210228T221447Z
UID:5728-1617269400-1617273000@aspinwallriverfrontpark.org
SUMMARY:Kindermusik
DESCRIPTION:
URL:https://aspinwallriverfrontpark.org/calendar/kindermusik-47/
CATEGORIES:Kindermusik
END:VEVENT
END:VCALENDAR