BEGIN:VCALENDAR
VERSION:2.0
PRODID:-//Riverfront Park - ECPv6.15.18//NONSGML v1.0//EN
CALSCALE:GREGORIAN
METHOD:PUBLISH
X-WR-CALNAME:Riverfront Park
X-ORIGINAL-URL:https://aspinwallriverfrontpark.org
X-WR-CALDESC:Events for Riverfront Park
REFRESH-INTERVAL;VALUE=DURATION:PT1H
X-Robots-Tag:noindex
X-PUBLISHED-TTL:PT1H
BEGIN:VTIMEZONE
TZID:America/New_York
BEGIN:DAYLIGHT
TZOFFSETFROM:-0500
TZOFFSETTO:-0400
TZNAME:EDT
DTSTART:20200308T070000
END:DAYLIGHT
BEGIN:STANDARD
TZOFFSETFROM:-0400
TZOFFSETTO:-0500
TZNAME:EST
DTSTART:20201101T060000
END:STANDARD
BEGIN:DAYLIGHT
TZOFFSETFROM:-0500
TZOFFSETTO:-0400
TZNAME:EDT
DTSTART:20210314T070000
END:DAYLIGHT
BEGIN:STANDARD
TZOFFSETFROM:-0400
TZOFFSETTO:-0500
TZNAME:EST
DTSTART:20211107T060000
END:STANDARD
BEGIN:DAYLIGHT
TZOFFSETFROM:-0500
TZOFFSETTO:-0400
TZNAME:EDT
DTSTART:20220313T070000
END:DAYLIGHT
BEGIN:STANDARD
TZOFFSETFROM:-0400
TZOFFSETTO:-0500
TZNAME:EST
DTSTART:20221106T060000
END:STANDARD
END:VTIMEZONE
BEGIN:VEVENT
DTSTART;TZID=America/New_York:20210605T100000
DTEND;TZID=America/New_York:20210605T140000
DTSTAMP:20260423T031812
CREATED:20210301T220600Z
LAST-MODIFIED:20210301T220600Z
UID:5947-1622887200-1622901600@aspinwallriverfrontpark.org
SUMMARY:Farmer x Baker
DESCRIPTION:Join the super fantastic Farmer x Baker for brunch.  Coffee and a homemade bagel? Sounds great!  How about a vegan entrée for a light lunch? We got it!! What about a classic Bacon\, Egg and Cheese? We go it!
URL:https://aspinwallriverfrontpark.org/calendar/farmer-x-baker-33-2021-06-05/
CATEGORIES:Farmer+Baker
END:VEVENT
BEGIN:VEVENT
DTSTART;VALUE=DATE:20210605
DTEND;VALUE=DATE:20210606
DTSTAMP:20260423T031812
CREATED:20210301T221721Z
LAST-MODIFIED:20210301T221721Z
UID:6008-1622851200-1622937599@aspinwallriverfrontpark.org
SUMMARY:Wedding Celebration
DESCRIPTION:This wedding may take place on the fishing dock.  Please be gracious\, the ceremonies are usually under 45 minutes! The parking lot may be very crowded as well!  But please enjoy yourself.
URL:https://aspinwallriverfrontpark.org/calendar/wedding-celebration-44-2021-06-05/
CATEGORIES:JPC Event
END:VEVENT
BEGIN:VEVENT
DTSTART;TZID=America/New_York:20210604T180000
DTEND;TZID=America/New_York:20210604T210000
DTSTAMP:20260423T031812
CREATED:20210504T195537Z
LAST-MODIFIED:20210602T162837Z
UID:6378-1622829600-1622840400@aspinwallriverfrontpark.org
SUMMARY:Friday Night Music at the Park: Cue Ball\, 5 Piece Band
DESCRIPTION:
URL:https://aspinwallriverfrontpark.org/calendar/friday-night-music-at-the-park-que-ball-5-piece-band/
CATEGORIES:General
END:VEVENT
BEGIN:VEVENT
DTSTART;TZID=America/New_York:20210603T093000
DTEND;TZID=America/New_York:20210603T103000
DTSTAMP:20260423T031812
CREATED:20210228T230241Z
LAST-MODIFIED:20210301T232608Z
UID:5786-1622712600-1622716200@aspinwallriverfrontpark.org
SUMMARY:Kindermusik
DESCRIPTION:Join Lynda\,(a local treasure)\, for music and dance with your toddler.  Along with the class here\, she has an online class which still brings her great personality to light! Check out her website for more information\, musicforalifetime.com Or give her a call and join this great program!!!!! Lynda 412.512.0477
URL:https://aspinwallriverfrontpark.org/calendar/kindermusik-73-2021-06-03/
CATEGORIES:Kindermusik
END:VEVENT
BEGIN:VEVENT
DTSTART;TZID=America/New_York:20210602T190000
DTEND;TZID=America/New_York:20210602T200000
DTSTAMP:20260423T031812
CREATED:20210510T205851Z
LAST-MODIFIED:20210510T205851Z
UID:6388-1622660400-1622664000@aspinwallriverfrontpark.org
SUMMARY:Bachata Dance Class
DESCRIPTION:Join our 8 week class at the park.  This is the first session!!!!!!!! \nTo sign up\, check out https://www.fortheloveofbachata.com/
URL:https://aspinwallriverfrontpark.org/calendar/bachata-dance-class/
CATEGORIES:General
END:VEVENT
BEGIN:VEVENT
DTSTART;TZID=America/New_York:20210602T170000
DTEND;TZID=America/New_York:20210602T200000
DTSTAMP:20260423T031812
CREATED:20210503T123428Z
LAST-MODIFIED:20210503T123428Z
UID:6338-1622653200-1622664000@aspinwallriverfrontpark.org
SUMMARY:Pittsburgh Pierogi Truck
DESCRIPTION:Doesn’t get more yinzer than this!
URL:https://aspinwallriverfrontpark.org/calendar/pittsburgh-pierogi-truck/
CATEGORIES:General
END:VEVENT
BEGIN:VEVENT
DTSTART;TZID=America/New_York:20210602T093000
DTEND;TZID=America/New_York:20210602T103000
DTSTAMP:20260423T031812
CREATED:20210228T230241Z
LAST-MODIFIED:20210301T232607Z
UID:5784-1622626200-1622629800@aspinwallriverfrontpark.org
SUMMARY:Kindermusik
DESCRIPTION:Join Lynda\,(a local treasure)\, for music and dance with your toddler.  Along with the class here\, she has an online class which still brings her great personality to light! Check out her website for more information\, musicforalifetime.com Or give her a call and join this great program!!!!! Lynda 412.512.0477
URL:https://aspinwallriverfrontpark.org/calendar/kindermusik-73/
CATEGORIES:Kindermusik
END:VEVENT
BEGIN:VEVENT
DTSTART;TZID=America/New_York:20210601T170000
DTEND;TZID=America/New_York:20210601T200000
DTSTAMP:20260423T031812
CREATED:20210503T123207Z
LAST-MODIFIED:20210503T123207Z
UID:6336-1622566800-1622577600@aspinwallriverfrontpark.org
SUMMARY:Yovi's Italian Beef and hot dogs
DESCRIPTION:A classic truck from downtown.
URL:https://aspinwallriverfrontpark.org/calendar/yovis-italian-beef-and-hot-dogs/
CATEGORIES:General
END:VEVENT
BEGIN:VEVENT
DTSTART;TZID=America/New_York:20210531T093000
DTEND;TZID=America/New_York:20210531T103000
DTSTAMP:20260423T031812
CREATED:20210228T225704Z
LAST-MODIFIED:20210228T225704Z
UID:5782-1622453400-1622457000@aspinwallriverfrontpark.org
SUMMARY:Kindermusik
DESCRIPTION:
URL:https://aspinwallriverfrontpark.org/calendar/kindermusik-72/
CATEGORIES:Kindermusik
END:VEVENT
BEGIN:VEVENT
DTSTART;TZID=America/New_York:20210530T150000
DTEND;TZID=America/New_York:20210530T173000
DTSTAMP:20260423T031812
CREATED:20210503T202715Z
LAST-MODIFIED:20210503T202715Z
UID:6370-1622386800-1622395800@aspinwallriverfrontpark.org
SUMMARY:Drum Circle
DESCRIPTION:Bring a chair\, bring a drum. Hang in West Park and bang some drums!
URL:https://aspinwallriverfrontpark.org/calendar/drum-circle-46/
CATEGORIES:Drum Circle
END:VEVENT
BEGIN:VEVENT
DTSTART;TZID=America/New_York:20210530T100000
DTEND;TZID=America/New_York:20210530T140000
DTSTAMP:20260423T031812
CREATED:20210301T220600Z
LAST-MODIFIED:20210301T220600Z
UID:5946-1622368800-1622383200@aspinwallriverfrontpark.org
SUMMARY:Farmer x Baker
DESCRIPTION:Join the super fantastic Farmer x Baker for brunch.  Coffee and a homemade bagel? Sounds great!  How about a vegan entrée for a light lunch? We got it!! What about a classic Bacon\, Egg and Cheese? We go it!
URL:https://aspinwallriverfrontpark.org/calendar/farmer-x-baker-33-2021-05-30/
CATEGORIES:Farmer+Baker
END:VEVENT
BEGIN:VEVENT
DTSTART;TZID=America/New_York:20210530T100000
DTEND;TZID=America/New_York:20210530T110000
DTSTAMP:20260423T031812
CREATED:20210503T201309Z
LAST-MODIFIED:20210503T201309Z
UID:6358-1622368800-1622372400@aspinwallriverfrontpark.org
SUMMARY:Yoga Flow
DESCRIPTION:Sign up at yogaflowpittsburgh.com
URL:https://aspinwallriverfrontpark.org/calendar/yoga-flow-31/
END:VEVENT
BEGIN:VEVENT
DTSTART;TZID=America/New_York:20210529T100000
DTEND;TZID=America/New_York:20210529T140000
DTSTAMP:20260423T031812
CREATED:20210301T220600Z
LAST-MODIFIED:20210301T220600Z
UID:5945-1622282400-1622296800@aspinwallriverfrontpark.org
SUMMARY:Farmer x Baker
DESCRIPTION:Join the super fantastic Farmer x Baker for brunch.  Coffee and a homemade bagel? Sounds great!  How about a vegan entrée for a light lunch? We got it!! What about a classic Bacon\, Egg and Cheese? We go it!
URL:https://aspinwallriverfrontpark.org/calendar/farmer-x-baker-33-2021-05-29/
CATEGORIES:Farmer+Baker
END:VEVENT
BEGIN:VEVENT
DTSTART;VALUE=DATE:20210529
DTEND;VALUE=DATE:20210530
DTSTAMP:20260423T031812
CREATED:20210301T221721Z
LAST-MODIFIED:20210301T221721Z
UID:6005-1622246400-1622332799@aspinwallriverfrontpark.org
SUMMARY:Wedding Celebration
DESCRIPTION:This wedding may take place on the fishing dock.  Please be gracious\, the ceremonies are usually under 45 minutes! The parking lot may be very crowded as well!  But please enjoy yourself.
URL:https://aspinwallriverfrontpark.org/calendar/wedding-celebration-44-2021-05-29/
CATEGORIES:JPC Event
END:VEVENT
BEGIN:VEVENT
DTSTART;TZID=America/New_York:20210528T190000
DTEND;TZID=America/New_York:20210528T200000
DTSTAMP:20260423T031812
CREATED:20210504T195142Z
LAST-MODIFIED:20210504T195142Z
UID:6376-1622228400-1622232000@aspinwallriverfrontpark.org
SUMMARY:Music at the Park: Tony Campbell Jazz Night
DESCRIPTION:
URL:https://aspinwallriverfrontpark.org/calendar/music-at-the-park-tony-campbell-jazz-night/
CATEGORIES:General
END:VEVENT
BEGIN:VEVENT
DTSTART;TZID=America/New_York:20210527T093000
DTEND;TZID=America/New_York:20210527T103000
DTSTAMP:20260423T031812
CREATED:20210228T225616Z
LAST-MODIFIED:20210228T225616Z
UID:5780-1622107800-1622111400@aspinwallriverfrontpark.org
SUMMARY:Kindermusik
DESCRIPTION:
URL:https://aspinwallriverfrontpark.org/calendar/kindermusik-71/
CATEGORIES:Kindermusik
END:VEVENT
BEGIN:VEVENT
DTSTART;TZID=America/New_York:20210526T170000
DTEND;TZID=America/New_York:20210526T200000
DTSTAMP:20260423T031812
CREATED:20210503T122947Z
LAST-MODIFIED:20210503T122947Z
UID:6334-1622048400-1622059200@aspinwallriverfrontpark.org
SUMMARY:Steer and Wheel
DESCRIPTION:A venerable favorite at the park.
URL:https://aspinwallriverfrontpark.org/calendar/steer-and-wheel/
CATEGORIES:General
END:VEVENT
BEGIN:VEVENT
DTSTART;TZID=America/New_York:20210526T093000
DTEND;TZID=America/New_York:20210526T103000
DTSTAMP:20260423T031812
CREATED:20210228T225534Z
LAST-MODIFIED:20210228T225534Z
UID:5778-1622021400-1622025000@aspinwallriverfrontpark.org
SUMMARY:Kindermusik
DESCRIPTION:
URL:https://aspinwallriverfrontpark.org/calendar/kindermusik-70/
CATEGORIES:Kindermusik
END:VEVENT
BEGIN:VEVENT
DTSTART;TZID=America/New_York:20210525T170000
DTEND;TZID=America/New_York:20210525T200000
DTSTAMP:20260423T031812
CREATED:20210503T122834Z
LAST-MODIFIED:20210503T122834Z
UID:6332-1621962000-1621972800@aspinwallriverfrontpark.org
SUMMARY:The Coop Chicken and Waffles!
DESCRIPTION:Do you need more calories in your diet?  Come on down for dinner and enjoy a cool night at the park.
URL:https://aspinwallriverfrontpark.org/calendar/the-coop-chicken-and-waffles/
CATEGORIES:General
END:VEVENT
BEGIN:VEVENT
DTSTART;TZID=America/New_York:20210524T093000
DTEND;TZID=America/New_York:20210524T103000
DTSTAMP:20260423T031812
CREATED:20210228T225445Z
LAST-MODIFIED:20210228T225445Z
UID:5776-1621848600-1621852200@aspinwallriverfrontpark.org
SUMMARY:Kindermusik
DESCRIPTION:
URL:https://aspinwallriverfrontpark.org/calendar/kindermusik-69/
CATEGORIES:Kindermusik
END:VEVENT
BEGIN:VEVENT
DTSTART;TZID=America/New_York:20210523T153000
DTEND;TZID=America/New_York:20210523T163000
DTSTAMP:20260423T031812
CREATED:20210301T214510Z
LAST-MODIFIED:20210514T214648Z
UID:5926-1621783800-1621787400@aspinwallriverfrontpark.org
SUMMARY:Fox Chapel Orchestral Performance
DESCRIPTION:Fox Chapel High School Orchestra will be performing outdoors.  Bring a lawn chair and a mask.
URL:https://aspinwallriverfrontpark.org/calendar/fox-chapel-orchestral-performance-2/
CATEGORIES:General
END:VEVENT
BEGIN:VEVENT
DTSTART;TZID=America/New_York:20210523T100000
DTEND;TZID=America/New_York:20210523T140000
DTSTAMP:20260423T031812
CREATED:20210301T220600Z
LAST-MODIFIED:20210301T220600Z
UID:5944-1621764000-1621778400@aspinwallriverfrontpark.org
SUMMARY:Farmer x Baker
DESCRIPTION:Join the super fantastic Farmer x Baker for brunch.  Coffee and a homemade bagel? Sounds great!  How about a vegan entrée for a light lunch? We got it!! What about a classic Bacon\, Egg and Cheese? We go it!
URL:https://aspinwallriverfrontpark.org/calendar/farmer-x-baker-33-2021-05-23/
CATEGORIES:Farmer+Baker
END:VEVENT
BEGIN:VEVENT
DTSTART;TZID=America/New_York:20210523T100000
DTEND;TZID=America/New_York:20210523T110000
DTSTAMP:20260423T031812
CREATED:20210503T201212Z
LAST-MODIFIED:20210503T201212Z
UID:6356-1621764000-1621767600@aspinwallriverfrontpark.org
SUMMARY:Yoga Flow
DESCRIPTION:Yoga in the park! Check out yogaflowpittsburgh.com for more info.
URL:https://aspinwallriverfrontpark.org/calendar/yoga-flow-30/
END:VEVENT
BEGIN:VEVENT
DTSTART;TZID=America/New_York:20210522T100000
DTEND;TZID=America/New_York:20210522T140000
DTSTAMP:20260423T031812
CREATED:20210301T220600Z
LAST-MODIFIED:20210301T220600Z
UID:5943-1621677600-1621692000@aspinwallriverfrontpark.org
SUMMARY:Farmer x Baker
DESCRIPTION:Join the super fantastic Farmer x Baker for brunch.  Coffee and a homemade bagel? Sounds great!  How about a vegan entrée for a light lunch? We got it!! What about a classic Bacon\, Egg and Cheese? We go it!
URL:https://aspinwallriverfrontpark.org/calendar/farmer-x-baker-33-2021-05-22/
CATEGORIES:Farmer+Baker
END:VEVENT
BEGIN:VEVENT
DTSTART;VALUE=DATE:20210522
DTEND;VALUE=DATE:20210523
DTSTAMP:20260423T031812
CREATED:20210301T221721Z
LAST-MODIFIED:20210301T221721Z
UID:6002-1621641600-1621727999@aspinwallriverfrontpark.org
SUMMARY:Wedding Celebration
DESCRIPTION:This wedding may take place on the fishing dock.  Please be gracious\, the ceremonies are usually under 45 minutes! The parking lot may be very crowded as well!  But please enjoy yourself.
URL:https://aspinwallriverfrontpark.org/calendar/wedding-celebration-44-2021-05-22/
CATEGORIES:JPC Event
END:VEVENT
BEGIN:VEVENT
DTSTART;TZID=America/New_York:20210520T093000
DTEND;TZID=America/New_York:20210520T103000
DTSTAMP:20260423T031812
CREATED:20210228T225400Z
LAST-MODIFIED:20210228T225400Z
UID:5774-1621503000-1621506600@aspinwallriverfrontpark.org
SUMMARY:Kindermusik
DESCRIPTION:
URL:https://aspinwallriverfrontpark.org/calendar/kindermusik-68/
CATEGORIES:Kindermusik
END:VEVENT
BEGIN:VEVENT
DTSTART;TZID=America/New_York:20210519T170000
DTEND;TZID=America/New_York:20210519T200000
DTSTAMP:20260423T031812
CREATED:20210503T122633Z
LAST-MODIFIED:20210503T122633Z
UID:6330-1621443600-1621454400@aspinwallriverfrontpark.org
SUMMARY:Steer and Wheel Food Truck
DESCRIPTION:They make burgers.  Good burgers.  They often sell out.  Come early and enjoy the sunset at the park!
URL:https://aspinwallriverfrontpark.org/calendar/steer-and-wheel-food-truck-2/
CATEGORIES:General
END:VEVENT
BEGIN:VEVENT
DTSTART;TZID=America/New_York:20210519T093000
DTEND;TZID=America/New_York:20210519T103000
DTSTAMP:20260423T031812
CREATED:20210228T225253Z
LAST-MODIFIED:20210228T225253Z
UID:5772-1621416600-1621420200@aspinwallriverfrontpark.org
SUMMARY:Kindermusik
DESCRIPTION:
URL:https://aspinwallriverfrontpark.org/calendar/kindermusik-67/
CATEGORIES:Kindermusik
END:VEVENT
BEGIN:VEVENT
DTSTART;TZID=America/New_York:20210518T170000
DTEND;TZID=America/New_York:20210518T200000
DTSTAMP:20260423T031812
CREATED:20210503T121825Z
LAST-MODIFIED:20210518T133931Z
UID:6328-1621357200-1621368000@aspinwallriverfrontpark.org
SUMMARY:Just Roll'd Up Food Truck
DESCRIPTION:I have no idea what this truck serves. Tacos? Wraps? Come down and find out!!!
URL:https://aspinwallriverfrontpark.org/calendar/just-rolld-up-food-truck/
CATEGORIES:General
END:VEVENT
BEGIN:VEVENT
DTSTART;TZID=America/New_York:20210517T093000
DTEND;TZID=America/New_York:20210517T103000
DTSTAMP:20260423T031812
CREATED:20210228T225144Z
LAST-MODIFIED:20210228T225144Z
UID:5770-1621243800-1621247400@aspinwallriverfrontpark.org
SUMMARY:Kindermusik
DESCRIPTION:
URL:https://aspinwallriverfrontpark.org/calendar/kindermusik-66/
CATEGORIES:Kindermusik
END:VEVENT
END:VCALENDAR