BEGIN:VCALENDAR
VERSION:2.0
PRODID:-//Riverfront Park - ECPv6.15.18//NONSGML v1.0//EN
CALSCALE:GREGORIAN
METHOD:PUBLISH
X-ORIGINAL-URL:https://aspinwallriverfrontpark.org
X-WR-CALDESC:Events for Riverfront Park
REFRESH-INTERVAL;VALUE=DURATION:PT1H
X-Robots-Tag:noindex
X-PUBLISHED-TTL:PT1H
BEGIN:VTIMEZONE
TZID:America/New_York
BEGIN:DAYLIGHT
TZOFFSETFROM:-0500
TZOFFSETTO:-0400
TZNAME:EDT
DTSTART:20200308T070000
END:DAYLIGHT
BEGIN:STANDARD
TZOFFSETFROM:-0400
TZOFFSETTO:-0500
TZNAME:EST
DTSTART:20201101T060000
END:STANDARD
BEGIN:DAYLIGHT
TZOFFSETFROM:-0500
TZOFFSETTO:-0400
TZNAME:EDT
DTSTART:20210314T070000
END:DAYLIGHT
BEGIN:STANDARD
TZOFFSETFROM:-0400
TZOFFSETTO:-0500
TZNAME:EST
DTSTART:20211107T060000
END:STANDARD
BEGIN:DAYLIGHT
TZOFFSETFROM:-0500
TZOFFSETTO:-0400
TZNAME:EDT
DTSTART:20220313T070000
END:DAYLIGHT
BEGIN:STANDARD
TZOFFSETFROM:-0400
TZOFFSETTO:-0500
TZNAME:EST
DTSTART:20221106T060000
END:STANDARD
END:VTIMEZONE
BEGIN:VEVENT
DTSTART;TZID=America/New_York:20210619T170000
DTEND;TZID=America/New_York:20210619T210000
DTSTAMP:20260422T232454
CREATED:20210611T210008Z
LAST-MODIFIED:20210611T210008Z
UID:6495-1624122000-1624136400@aspinwallriverfrontpark.org
SUMMARY:Farmer x Baker
DESCRIPTION:Stop by for dinner by the river!
URL:https://aspinwallriverfrontpark.org/calendar/farmer-x-baker-39/
CATEGORIES:Farmer+Baker
END:VEVENT
BEGIN:VEVENT
DTSTART;TZID=America/New_York:20210619T100000
DTEND;TZID=America/New_York:20210619T140000
DTSTAMP:20260422T232454
CREATED:20210301T220600Z
LAST-MODIFIED:20210301T220600Z
UID:5951-1624096800-1624111200@aspinwallriverfrontpark.org
SUMMARY:Farmer x Baker
DESCRIPTION:Join the super fantastic Farmer x Baker for brunch.  Coffee and a homemade bagel? Sounds great!  How about a vegan entrée for a light lunch? We got it!! What about a classic Bacon\, Egg and Cheese? We go it!
URL:https://aspinwallriverfrontpark.org/calendar/farmer-x-baker-33-2021-06-19/
CATEGORIES:Farmer+Baker
END:VEVENT
BEGIN:VEVENT
DTSTART;VALUE=DATE:20210619
DTEND;VALUE=DATE:20210620
DTSTAMP:20260422T232454
CREATED:20210301T221721Z
LAST-MODIFIED:20210301T221721Z
UID:6014-1624060800-1624147199@aspinwallriverfrontpark.org
SUMMARY:Wedding Celebration
DESCRIPTION:This wedding may take place on the fishing dock.  Please be gracious\, the ceremonies are usually under 45 minutes! The parking lot may be very crowded as well!  But please enjoy yourself.
URL:https://aspinwallriverfrontpark.org/calendar/wedding-celebration-44-2021-06-19/
CATEGORIES:JPC Event
END:VEVENT
BEGIN:VEVENT
DTSTART;TZID=America/New_York:20210618T170000
DTEND;TZID=America/New_York:20210618T200000
DTSTAMP:20260422T232454
CREATED:20210611T205907Z
LAST-MODIFIED:20210611T205907Z
UID:6493-1624035600-1624046400@aspinwallriverfrontpark.org
SUMMARY:Farmer X Baker
DESCRIPTION:Stop down for dinner b y the river!
URL:https://aspinwallriverfrontpark.org/calendar/farmer-x-baker-38/
CATEGORIES:Farmer+Baker
END:VEVENT
BEGIN:VEVENT
DTSTART;VALUE=DATE:20210618
DTEND;VALUE=DATE:20210619
DTSTAMP:20260422T232454
CREATED:20210301T221721Z
LAST-MODIFIED:20210301T221721Z
UID:6013-1623974400-1624060799@aspinwallriverfrontpark.org
SUMMARY:Wedding Celebration
DESCRIPTION:This wedding may take place on the fishing dock.  Please be gracious\, the ceremonies are usually under 45 minutes! The parking lot may be very crowded as well!  But please enjoy yourself.
URL:https://aspinwallriverfrontpark.org/calendar/wedding-celebration-44-2021-06-18/
CATEGORIES:JPC Event
END:VEVENT
BEGIN:VEVENT
DTSTART;TZID=America/New_York:20210617T093000
DTEND;TZID=America/New_York:20210617T103000
DTSTAMP:20260422T232454
CREATED:20210228T230241Z
LAST-MODIFIED:20210301T232608Z
UID:5792-1623922200-1623925800@aspinwallriverfrontpark.org
SUMMARY:Kindermusik
DESCRIPTION:Join Lynda\,(a local treasure)\, for music and dance with your toddler.  Along with the class here\, she has an online class which still brings her great personality to light! Check out her website for more information\, musicforalifetime.com Or give her a call and join this great program!!!!! Lynda 412.512.0477
URL:https://aspinwallriverfrontpark.org/calendar/kindermusik-73-2021-06-17/
CATEGORIES:Kindermusik
END:VEVENT
BEGIN:VEVENT
DTSTART;TZID=America/New_York:20210616T170000
DTEND;TZID=America/New_York:20210616T200000
DTSTAMP:20260422T232454
CREATED:20210616T150558Z
LAST-MODIFIED:20210616T150558Z
UID:6500-1623862800-1623873600@aspinwallriverfrontpark.org
SUMMARY:Steer and Wheel
DESCRIPTION:
URL:https://aspinwallriverfrontpark.org/calendar/steer-and-wheel-2/
CATEGORIES:Food Truck,Kindermusik
END:VEVENT
BEGIN:VEVENT
DTSTART;TZID=America/New_York:20210616T093000
DTEND;TZID=America/New_York:20210616T103000
DTSTAMP:20260422T232454
CREATED:20210228T230241Z
LAST-MODIFIED:20210301T232608Z
UID:5791-1623835800-1623839400@aspinwallriverfrontpark.org
SUMMARY:Kindermusik
DESCRIPTION:Join Lynda\,(a local treasure)\, for music and dance with your toddler.  Along with the class here\, she has an online class which still brings her great personality to light! Check out her website for more information\, musicforalifetime.com Or give her a call and join this great program!!!!! Lynda 412.512.0477
URL:https://aspinwallriverfrontpark.org/calendar/kindermusik-73-2021-06-16/
CATEGORIES:Kindermusik
END:VEVENT
BEGIN:VEVENT
DTSTART;TZID=America/New_York:20210615T170000
DTEND;TZID=America/New_York:20210615T200000
DTSTAMP:20260422T232454
CREATED:20210503T124843Z
LAST-MODIFIED:20210503T124843Z
UID:6348-1623776400-1623787200@aspinwallriverfrontpark.org
SUMMARY:Just Roll'd Up Sushi and Poke Truck
DESCRIPTION:Sushi and Poke by the river? I’m game!!!
URL:https://aspinwallriverfrontpark.org/calendar/just-rolld-up-sushi-and-poke-truck/
CATEGORIES:General
END:VEVENT
BEGIN:VEVENT
DTSTART;TZID=America/New_York:20210614T170000
DTEND;TZID=America/New_York:20210614T200000
DTSTAMP:20260422T232454
CREATED:20210503T124638Z
LAST-MODIFIED:20210503T124638Z
UID:6346-1623690000-1623700800@aspinwallriverfrontpark.org
SUMMARY:Emporio Meatball Truck
DESCRIPTION:
URL:https://aspinwallriverfrontpark.org/calendar/emporio-meatball-truck/
CATEGORIES:General
END:VEVENT
BEGIN:VEVENT
DTSTART;TZID=America/New_York:20210614T093000
DTEND;TZID=America/New_York:20210614T103000
DTSTAMP:20260422T232454
CREATED:20210228T230241Z
LAST-MODIFIED:20210301T232608Z
UID:5790-1623663000-1623666600@aspinwallriverfrontpark.org
SUMMARY:Kindermusik
DESCRIPTION:Join Lynda\,(a local treasure)\, for music and dance with your toddler.  Along with the class here\, she has an online class which still brings her great personality to light! Check out her website for more information\, musicforalifetime.com Or give her a call and join this great program!!!!! Lynda 412.512.0477
URL:https://aspinwallriverfrontpark.org/calendar/kindermusik-73-2021-06-14/
CATEGORIES:Kindermusik
END:VEVENT
BEGIN:VEVENT
DTSTART;TZID=America/New_York:20210613T190000
DTEND;TZID=America/New_York:20210613T200000
DTSTAMP:20260422T232454
CREATED:20210510T210155Z
LAST-MODIFIED:20210510T210307Z
UID:6392-1623610800-1623614400@aspinwallriverfrontpark.org
SUMMARY:Bachata Dance Class
DESCRIPTION:Have you seen this class at the park?  Want to join? Check out  https://www.fortheloveofbachata.com/
URL:https://aspinwallriverfrontpark.org/calendar/bachata-dance-class-3/
CATEGORIES:General
END:VEVENT
BEGIN:VEVENT
DTSTART;TZID=America/New_York:20210613T150000
DTEND;TZID=America/New_York:20210613T173000
DTSTAMP:20260422T232454
CREATED:20210503T202952Z
LAST-MODIFIED:20210503T202952Z
UID:6372-1623596400-1623605400@aspinwallriverfrontpark.org
SUMMARY:Drum Circle
DESCRIPTION:Hang in West park and hit some drums. Bring a chair and a drum.
URL:https://aspinwallriverfrontpark.org/calendar/drum-circle-47/
CATEGORIES:Drum Circle
END:VEVENT
BEGIN:VEVENT
DTSTART;TZID=America/New_York:20210613T100000
DTEND;TZID=America/New_York:20210613T140000
DTSTAMP:20260422T232454
CREATED:20210301T220600Z
LAST-MODIFIED:20210301T220600Z
UID:5950-1623578400-1623592800@aspinwallriverfrontpark.org
SUMMARY:Farmer x Baker
DESCRIPTION:Join the super fantastic Farmer x Baker for brunch.  Coffee and a homemade bagel? Sounds great!  How about a vegan entrée for a light lunch? We got it!! What about a classic Bacon\, Egg and Cheese? We go it!
URL:https://aspinwallriverfrontpark.org/calendar/farmer-x-baker-33-2021-06-13/
CATEGORIES:Farmer+Baker
END:VEVENT
BEGIN:VEVENT
DTSTART;TZID=America/New_York:20210613T100000
DTEND;TZID=America/New_York:20210613T110000
DTSTAMP:20260422T232454
CREATED:20210503T201830Z
LAST-MODIFIED:20210503T201830Z
UID:6362-1623578400-1623582000@aspinwallriverfrontpark.org
SUMMARY:Yoga Flow
DESCRIPTION:Join us for yoga \nSign up at yogaflowpittsburgh.com
URL:https://aspinwallriverfrontpark.org/calendar/yoga-flow-33/
CATEGORIES:Yoga Flow
END:VEVENT
BEGIN:VEVENT
DTSTART;TZID=America/New_York:20210612T170000
DTEND;TZID=America/New_York:20210612T210000
DTSTAMP:20260422T232454
CREATED:20210608T210500Z
LAST-MODIFIED:20210608T210500Z
UID:6491-1623517200-1623531600@aspinwallriverfrontpark.org
SUMMARY:Farmer x Baker
DESCRIPTION:Join us for dinner and dessert by the river!
URL:https://aspinwallriverfrontpark.org/calendar/farmer-x-baker-36/
CATEGORIES:Farmer+Baker
END:VEVENT
BEGIN:VEVENT
DTSTART;TZID=America/New_York:20210612T100000
DTEND;TZID=America/New_York:20210612T140000
DTSTAMP:20260422T232454
CREATED:20210301T220600Z
LAST-MODIFIED:20210301T220600Z
UID:5949-1623492000-1623506400@aspinwallriverfrontpark.org
SUMMARY:Farmer x Baker
DESCRIPTION:Join the super fantastic Farmer x Baker for brunch.  Coffee and a homemade bagel? Sounds great!  How about a vegan entrée for a light lunch? We got it!! What about a classic Bacon\, Egg and Cheese? We go it!
URL:https://aspinwallriverfrontpark.org/calendar/farmer-x-baker-33-2021-06-12/
CATEGORIES:Farmer+Baker
END:VEVENT
BEGIN:VEVENT
DTSTART;VALUE=DATE:20210612
DTEND;VALUE=DATE:20210613
DTSTAMP:20260422T232454
CREATED:20210301T221721Z
LAST-MODIFIED:20210301T221721Z
UID:6011-1623456000-1623542399@aspinwallriverfrontpark.org
SUMMARY:Wedding Celebration
DESCRIPTION:This wedding may take place on the fishing dock.  Please be gracious\, the ceremonies are usually under 45 minutes! The parking lot may be very crowded as well!  But please enjoy yourself.
URL:https://aspinwallriverfrontpark.org/calendar/wedding-celebration-44-2021-06-12/
CATEGORIES:JPC Event
END:VEVENT
BEGIN:VEVENT
DTSTART;TZID=America/New_York:20210611T170000
DTEND;TZID=America/New_York:20210611T210000
DTSTAMP:20260422T232454
CREATED:20210608T210358Z
LAST-MODIFIED:20210608T210358Z
UID:6489-1623430800-1623445200@aspinwallriverfrontpark.org
SUMMARY:Farmer x Baker
DESCRIPTION:Join us for dinner by the water.  Dinner and dessert with the sunset!!!!!!
URL:https://aspinwallriverfrontpark.org/calendar/farmer-x-baker-35/
CATEGORIES:Farmer+Baker
END:VEVENT
BEGIN:VEVENT
DTSTART;TZID=America/New_York:20210610T093000
DTEND;TZID=America/New_York:20210610T103000
DTSTAMP:20260422T232454
CREATED:20210228T230241Z
LAST-MODIFIED:20210301T232608Z
UID:5789-1623317400-1623321000@aspinwallriverfrontpark.org
SUMMARY:Kindermusik
DESCRIPTION:Join Lynda\,(a local treasure)\, for music and dance with your toddler.  Along with the class here\, she has an online class which still brings her great personality to light! Check out her website for more information\, musicforalifetime.com Or give her a call and join this great program!!!!! Lynda 412.512.0477
URL:https://aspinwallriverfrontpark.org/calendar/kindermusik-73-2021-06-10/
CATEGORIES:Kindermusik
END:VEVENT
BEGIN:VEVENT
DTSTART;TZID=America/New_York:20210609T190000
DTEND;TZID=America/New_York:20210609T190000
DTSTAMP:20260422T232454
CREATED:20210510T210045Z
LAST-MODIFIED:20210510T210045Z
UID:6390-1623265200-1623265200@aspinwallriverfrontpark.org
SUMMARY:Bachata Dance Class
DESCRIPTION:Check out https://www.fortheloveofbachata.com/ \nFeel the rhythym at the park!!!
URL:https://aspinwallriverfrontpark.org/calendar/bachata-dance-class-2/
CATEGORIES:General
END:VEVENT
BEGIN:VEVENT
DTSTART;TZID=America/New_York:20210609T170000
DTEND;TZID=America/New_York:20210609T200000
DTSTAMP:20260422T232454
CREATED:20210503T124410Z
LAST-MODIFIED:20210503T124410Z
UID:6344-1623258000-1623268800@aspinwallriverfrontpark.org
SUMMARY:Cilantro and Ajo
DESCRIPTION:A Venezualan Food Truck!
URL:https://aspinwallriverfrontpark.org/calendar/cilantro-and-ajo/
CATEGORIES:General
END:VEVENT
BEGIN:VEVENT
DTSTART;TZID=America/New_York:20210609T093000
DTEND;TZID=America/New_York:20210609T103000
DTSTAMP:20260422T232454
CREATED:20210228T230241Z
LAST-MODIFIED:20210301T232608Z
UID:5788-1623231000-1623234600@aspinwallriverfrontpark.org
SUMMARY:Kindermusik
DESCRIPTION:Join Lynda\,(a local treasure)\, for music and dance with your toddler.  Along with the class here\, she has an online class which still brings her great personality to light! Check out her website for more information\, musicforalifetime.com Or give her a call and join this great program!!!!! Lynda 412.512.0477
URL:https://aspinwallriverfrontpark.org/calendar/kindermusik-73-2021-06-09/
CATEGORIES:Kindermusik
END:VEVENT
BEGIN:VEVENT
DTSTART;TZID=America/New_York:20210608T170000
DTEND;TZID=America/New_York:20210608T200000
DTSTAMP:20260422T232454
CREATED:20210503T123915Z
LAST-MODIFIED:20210503T123915Z
UID:6342-1623171600-1623182400@aspinwallriverfrontpark.org
SUMMARY:Tocayo
DESCRIPTION:Come down and enjoy the sunset!
URL:https://aspinwallriverfrontpark.org/calendar/tocayo/
CATEGORIES:General
END:VEVENT
BEGIN:VEVENT
DTSTART;TZID=America/New_York:20210608T160000
DTEND;TZID=America/New_York:20210608T200000
DTSTAMP:20260422T232454
CREATED:20210601T133906Z
LAST-MODIFIED:20210601T133906Z
UID:6473-1623168000-1623182400@aspinwallriverfrontpark.org
SUMMARY:Pride Event
DESCRIPTION:
URL:https://aspinwallriverfrontpark.org/calendar/pride-event/
CATEGORIES:General
END:VEVENT
BEGIN:VEVENT
DTSTART;TZID=America/New_York:20210607T120000
DTEND;TZID=America/New_York:20210607T140000
DTSTAMP:20260422T232454
CREATED:20210605T151956Z
LAST-MODIFIED:20210605T151956Z
UID:6480-1623067200-1623074400@aspinwallriverfrontpark.org
SUMMARY:Art in the Park
DESCRIPTION:Join us by the playground for Art projects in the Park. Grab and drink or lunch from Farmer baker as well!!!!!
URL:https://aspinwallriverfrontpark.org/calendar/art-in-the-park/
CATEGORIES:Art Car
END:VEVENT
BEGIN:VEVENT
DTSTART;TZID=America/New_York:20210607T093000
DTEND;TZID=America/New_York:20210607T103000
DTSTAMP:20260422T232454
CREATED:20210228T230241Z
LAST-MODIFIED:20210301T232608Z
UID:5787-1623058200-1623061800@aspinwallriverfrontpark.org
SUMMARY:Kindermusik
DESCRIPTION:Join Lynda\,(a local treasure)\, for music and dance with your toddler.  Along with the class here\, she has an online class which still brings her great personality to light! Check out her website for more information\, musicforalifetime.com Or give her a call and join this great program!!!!! Lynda 412.512.0477
URL:https://aspinwallriverfrontpark.org/calendar/kindermusik-73-2021-06-07/
CATEGORIES:Kindermusik
END:VEVENT
BEGIN:VEVENT
DTSTART;TZID=America/New_York:20210606T100000
DTEND;TZID=America/New_York:20210606T140000
DTSTAMP:20260422T232454
CREATED:20210301T220600Z
LAST-MODIFIED:20210301T220600Z
UID:5948-1622973600-1622988000@aspinwallriverfrontpark.org
SUMMARY:Farmer x Baker
DESCRIPTION:Join the super fantastic Farmer x Baker for brunch.  Coffee and a homemade bagel? Sounds great!  How about a vegan entrée for a light lunch? We got it!! What about a classic Bacon\, Egg and Cheese? We go it!
URL:https://aspinwallriverfrontpark.org/calendar/farmer-x-baker-33-2021-06-06/
CATEGORIES:Farmer+Baker
END:VEVENT
BEGIN:VEVENT
DTSTART;TZID=America/New_York:20210606T100000
DTEND;TZID=America/New_York:20210606T110000
DTSTAMP:20260422T232454
CREATED:20210503T201614Z
LAST-MODIFIED:20210503T201614Z
UID:6360-1622973600-1622977200@aspinwallriverfrontpark.org
SUMMARY:Yoga Flow
DESCRIPTION:Yoga in the park! \nSign up at yogaflow.com
URL:https://aspinwallriverfrontpark.org/calendar/yoga-flow-32/
CATEGORIES:Yoga Flow
END:VEVENT
BEGIN:VEVENT
DTSTART;VALUE=DATE:20210606
DTEND;VALUE=DATE:20210607
DTSTAMP:20260422T232454
CREATED:20210301T221721Z
LAST-MODIFIED:20210301T221721Z
UID:6009-1622937600-1623023999@aspinwallriverfrontpark.org
SUMMARY:Wedding Celebration
DESCRIPTION:This wedding may take place on the fishing dock.  Please be gracious\, the ceremonies are usually under 45 minutes! The parking lot may be very crowded as well!  But please enjoy yourself.
URL:https://aspinwallriverfrontpark.org/calendar/wedding-celebration-44-2021-06-06/
CATEGORIES:JPC Event
END:VEVENT
END:VCALENDAR