BEGIN:VCALENDAR
VERSION:2.0
PRODID:-//Riverfront Park - ECPv6.15.18//NONSGML v1.0//EN
CALSCALE:GREGORIAN
METHOD:PUBLISH
X-WR-CALNAME:Riverfront Park
X-ORIGINAL-URL:https://aspinwallriverfrontpark.org
X-WR-CALDESC:Events for Riverfront Park
REFRESH-INTERVAL;VALUE=DURATION:PT1H
X-Robots-Tag:noindex
X-PUBLISHED-TTL:PT1H
BEGIN:VTIMEZONE
TZID:America/New_York
BEGIN:DAYLIGHT
TZOFFSETFROM:-0500
TZOFFSETTO:-0400
TZNAME:EDT
DTSTART:20200308T070000
END:DAYLIGHT
BEGIN:STANDARD
TZOFFSETFROM:-0400
TZOFFSETTO:-0500
TZNAME:EST
DTSTART:20201101T060000
END:STANDARD
BEGIN:DAYLIGHT
TZOFFSETFROM:-0500
TZOFFSETTO:-0400
TZNAME:EDT
DTSTART:20210314T070000
END:DAYLIGHT
BEGIN:STANDARD
TZOFFSETFROM:-0400
TZOFFSETTO:-0500
TZNAME:EST
DTSTART:20211107T060000
END:STANDARD
BEGIN:DAYLIGHT
TZOFFSETFROM:-0500
TZOFFSETTO:-0400
TZNAME:EDT
DTSTART:20220313T070000
END:DAYLIGHT
BEGIN:STANDARD
TZOFFSETFROM:-0400
TZOFFSETTO:-0500
TZNAME:EST
DTSTART:20221106T060000
END:STANDARD
END:VTIMEZONE
BEGIN:VEVENT
DTSTART;VALUE=DATE:20210704
DTEND;VALUE=DATE:20210705
DTSTAMP:20260422T191523
CREATED:20210301T221721Z
LAST-MODIFIED:20210301T221721Z
UID:6021-1625356800-1625443199@aspinwallriverfrontpark.org
SUMMARY:Wedding Celebration
DESCRIPTION:This wedding may take place on the fishing dock.  Please be gracious\, the ceremonies are usually under 45 minutes! The parking lot may be very crowded as well!  But please enjoy yourself.
URL:https://aspinwallriverfrontpark.org/calendar/wedding-celebration-44-2021-07-04/
CATEGORIES:JPC Event
END:VEVENT
BEGIN:VEVENT
DTSTART;TZID=America/New_York:20210703T100000
DTEND;TZID=America/New_York:20210703T140000
DTSTAMP:20260422T191523
CREATED:20210301T220600Z
LAST-MODIFIED:20210301T220600Z
UID:5955-1625306400-1625320800@aspinwallriverfrontpark.org
SUMMARY:Farmer x Baker
DESCRIPTION:Join the super fantastic Farmer x Baker for brunch.  Coffee and a homemade bagel? Sounds great!  How about a vegan entrée for a light lunch? We got it!! What about a classic Bacon\, Egg and Cheese? We go it!
URL:https://aspinwallriverfrontpark.org/calendar/farmer-x-baker-33-2021-07-03/
CATEGORIES:Farmer+Baker
END:VEVENT
BEGIN:VEVENT
DTSTART;VALUE=DATE:20210703
DTEND;VALUE=DATE:20210704
DTSTAMP:20260422T191523
CREATED:20210301T221721Z
LAST-MODIFIED:20210301T221721Z
UID:6020-1625270400-1625356799@aspinwallriverfrontpark.org
SUMMARY:Wedding Celebration
DESCRIPTION:This wedding may take place on the fishing dock.  Please be gracious\, the ceremonies are usually under 45 minutes! The parking lot may be very crowded as well!  But please enjoy yourself.
URL:https://aspinwallriverfrontpark.org/calendar/wedding-celebration-44-2021-07-03/
CATEGORIES:JPC Event
END:VEVENT
BEGIN:VEVENT
DTSTART;TZID=America/New_York:20210702T190000
DTEND;TZID=America/New_York:20210702T200000
DTSTAMP:20260422T191523
CREATED:20210504T200112Z
LAST-MODIFIED:20210504T200112Z
UID:6381-1625252400-1625256000@aspinwallriverfrontpark.org
SUMMARY:Friday Night Music at the Park: Tony Campbell Jazz Night
DESCRIPTION:
URL:https://aspinwallriverfrontpark.org/calendar/friday-night-music-at-the-park-tony-campbell-jazz-night/
CATEGORIES:General
END:VEVENT
BEGIN:VEVENT
DTSTART;TZID=America/New_York:20210701T093000
DTEND;TZID=America/New_York:20210701T103000
DTSTAMP:20260422T191523
CREATED:20210228T230241Z
LAST-MODIFIED:20210301T232613Z
UID:5798-1625131800-1625135400@aspinwallriverfrontpark.org
SUMMARY:Kindermusik
DESCRIPTION:Join Lynda\,(a local treasure)\, for music and dance with your toddler.  Along with the class here\, she has an online class which still brings her great personality to light! Check out her website for more information\, musicforalifetime.com Or give her a call and join this great program!!!!! Lynda 412.512.0477
URL:https://aspinwallriverfrontpark.org/calendar/kindermusik-73-2021-07-01/
CATEGORIES:Kindermusik
END:VEVENT
BEGIN:VEVENT
DTSTART;TZID=America/New_York:20210630T190000
DTEND;TZID=America/New_York:20210630T200000
DTSTAMP:20260422T191523
CREATED:20210510T210611Z
LAST-MODIFIED:20210510T210611Z
UID:6398-1625079600-1625083200@aspinwallriverfrontpark.org
SUMMARY:Bachata Dance Class
DESCRIPTION:Have you seen these classes at the park?  Sign up at https://www.fortheloveofbachata.com/
URL:https://aspinwallriverfrontpark.org/calendar/bachata-dance-class-5/
CATEGORIES:General
END:VEVENT
BEGIN:VEVENT
DTSTART;TZID=America/New_York:20210630T170000
DTEND;TZID=America/New_York:20210630T200000
DTSTAMP:20260422T191523
CREATED:20210623T202328Z
LAST-MODIFIED:20210623T202328Z
UID:6525-1625072400-1625083200@aspinwallriverfrontpark.org
SUMMARY:Steer and Wheel Burger Truck
DESCRIPTION:
URL:https://aspinwallriverfrontpark.org/calendar/steer-and-wheel-burger-truck/
CATEGORIES:Food Truck
END:VEVENT
BEGIN:VEVENT
DTSTART;TZID=America/New_York:20210630T093000
DTEND;TZID=America/New_York:20210630T103000
DTSTAMP:20260422T191523
CREATED:20210228T230241Z
LAST-MODIFIED:20210301T232613Z
UID:5797-1625045400-1625049000@aspinwallriverfrontpark.org
SUMMARY:Kindermusik
DESCRIPTION:Join Lynda\,(a local treasure)\, for music and dance with your toddler.  Along with the class here\, she has an online class which still brings her great personality to light! Check out her website for more information\, musicforalifetime.com Or give her a call and join this great program!!!!! Lynda 412.512.0477
URL:https://aspinwallriverfrontpark.org/calendar/kindermusik-73-2021-06-30/
CATEGORIES:Kindermusik
END:VEVENT
BEGIN:VEVENT
DTSTART;TZID=America/New_York:20210629T170000
DTEND;TZID=America/New_York:20210629T200000
DTSTAMP:20260422T191523
CREATED:20210623T202120Z
LAST-MODIFIED:20210623T202120Z
UID:6523-1624986000-1624996800@aspinwallriverfrontpark.org
SUMMARY:Mr. Bugolgi Korean BBQ!
DESCRIPTION:
URL:https://aspinwallriverfrontpark.org/calendar/mr-bugolgi-korean-bbq/
CATEGORIES:Food Truck
END:VEVENT
BEGIN:VEVENT
DTSTART;TZID=America/New_York:20210628T170000
DTEND;TZID=America/New_York:20210628T200000
DTSTAMP:20260422T191523
CREATED:20210623T202007Z
LAST-MODIFIED:20210623T202007Z
UID:6521-1624899600-1624910400@aspinwallriverfrontpark.org
SUMMARY:Main Squeeze Juice Truck
DESCRIPTION:
URL:https://aspinwallriverfrontpark.org/calendar/main-squeeze-juice-truck/
CATEGORIES:Food Truck
END:VEVENT
BEGIN:VEVENT
DTSTART;TZID=America/New_York:20210628T093000
DTEND;TZID=America/New_York:20210628T103000
DTSTAMP:20260422T191523
CREATED:20210228T230241Z
LAST-MODIFIED:20210301T232613Z
UID:5796-1624872600-1624876200@aspinwallriverfrontpark.org
SUMMARY:Kindermusik
DESCRIPTION:Join Lynda\,(a local treasure)\, for music and dance with your toddler.  Along with the class here\, she has an online class which still brings her great personality to light! Check out her website for more information\, musicforalifetime.com Or give her a call and join this great program!!!!! Lynda 412.512.0477
URL:https://aspinwallriverfrontpark.org/calendar/kindermusik-73-2021-06-28/
CATEGORIES:Kindermusik
END:VEVENT
BEGIN:VEVENT
DTSTART;TZID=America/New_York:20210627T190000
DTEND;TZID=America/New_York:20210627T210000
DTSTAMP:20260422T191523
CREATED:20210503T203200Z
LAST-MODIFIED:20210626T133141Z
UID:6374-1624820400-1624827600@aspinwallriverfrontpark.org
SUMMARY:Rock the River Concert with Good Brother Earl
DESCRIPTION:Our first concert this Summer!!!! Free to the public\, bring a chair or a blanket. \nLet’s get rocking with Good Brother Earl!
URL:https://aspinwallriverfrontpark.org/calendar/rock-the-river-concert-8/
CATEGORIES:General
END:VEVENT
BEGIN:VEVENT
DTSTART;TZID=America/New_York:20210627T180000
DTEND;TZID=America/New_York:20210627T210000
DTSTAMP:20260422T191523
CREATED:20210301T224351Z
LAST-MODIFIED:20210301T224351Z
UID:6098-1624816800-1624827600@aspinwallriverfrontpark.org
SUMMARY:Rock the River Free Summer Concert Series
DESCRIPTION:Join us for the sunset and stay for the tunes and the food.  Bring a lawn chair or a blanket!!!!
URL:https://aspinwallriverfrontpark.org/calendar/rock-the-river-free-summer-concert-series/
CATEGORIES:General
END:VEVENT
BEGIN:VEVENT
DTSTART;TZID=America/New_York:20210627T100000
DTEND;TZID=America/New_York:20210627T140000
DTSTAMP:20260422T191523
CREATED:20210301T220600Z
LAST-MODIFIED:20210301T220600Z
UID:5954-1624788000-1624802400@aspinwallriverfrontpark.org
SUMMARY:Farmer x Baker
DESCRIPTION:Join the super fantastic Farmer x Baker for brunch.  Coffee and a homemade bagel? Sounds great!  How about a vegan entrée for a light lunch? We got it!! What about a classic Bacon\, Egg and Cheese? We go it!
URL:https://aspinwallriverfrontpark.org/calendar/farmer-x-baker-33-2021-06-27/
CATEGORIES:Farmer+Baker
END:VEVENT
BEGIN:VEVENT
DTSTART;TZID=America/New_York:20210627T100000
DTEND;TZID=America/New_York:20210627T110000
DTSTAMP:20260422T191523
CREATED:20210503T202255Z
LAST-MODIFIED:20210503T202255Z
UID:6368-1624788000-1624791600@aspinwallriverfrontpark.org
SUMMARY:Yoga Flow
DESCRIPTION:Yoga in the park! \nsign up at yogaflowpittsburgh.com
URL:https://aspinwallriverfrontpark.org/calendar/yoga-flow-36/
CATEGORIES:Yoga Flow
END:VEVENT
BEGIN:VEVENT
DTSTART;TZID=America/New_York:20210626T100000
DTEND;TZID=America/New_York:20210626T140000
DTSTAMP:20260422T191523
CREATED:20210301T220600Z
LAST-MODIFIED:20210301T220600Z
UID:5953-1624701600-1624716000@aspinwallriverfrontpark.org
SUMMARY:Farmer x Baker
DESCRIPTION:Join the super fantastic Farmer x Baker for brunch.  Coffee and a homemade bagel? Sounds great!  How about a vegan entrée for a light lunch? We got it!! What about a classic Bacon\, Egg and Cheese? We go it!
URL:https://aspinwallriverfrontpark.org/calendar/farmer-x-baker-33-2021-06-26/
CATEGORIES:Farmer+Baker
END:VEVENT
BEGIN:VEVENT
DTSTART;TZID=America/New_York:20210626T100000
DTEND;TZID=America/New_York:20210626T110000
DTSTAMP:20260422T191523
CREATED:20210621T171820Z
LAST-MODIFIED:20210621T171820Z
UID:6519-1624701600-1624705200@aspinwallriverfrontpark.org
SUMMARY:Yoga Flow
DESCRIPTION:Yoga in the park \nSign up at yogaflowpittsburgh.com
URL:https://aspinwallriverfrontpark.org/calendar/yoga-flow-37/
CATEGORIES:Yoga Flow
END:VEVENT
BEGIN:VEVENT
DTSTART;VALUE=DATE:20210626
DTEND;VALUE=DATE:20210627
DTSTAMP:20260422T191523
CREATED:20210301T221721Z
LAST-MODIFIED:20210301T221721Z
UID:6017-1624665600-1624751999@aspinwallriverfrontpark.org
SUMMARY:Wedding Celebration
DESCRIPTION:This wedding may take place on the fishing dock.  Please be gracious\, the ceremonies are usually under 45 minutes! The parking lot may be very crowded as well!  But please enjoy yourself.
URL:https://aspinwallriverfrontpark.org/calendar/wedding-celebration-44-2021-06-26/
CATEGORIES:JPC Event
END:VEVENT
BEGIN:VEVENT
DTSTART;VALUE=DATE:20210625
DTEND;VALUE=DATE:20210626
DTSTAMP:20260422T191523
CREATED:20210301T221721Z
LAST-MODIFIED:20210301T221721Z
UID:6016-1624579200-1624665599@aspinwallriverfrontpark.org
SUMMARY:Wedding Celebration
DESCRIPTION:This wedding may take place on the fishing dock.  Please be gracious\, the ceremonies are usually under 45 minutes! The parking lot may be very crowded as well!  But please enjoy yourself.
URL:https://aspinwallriverfrontpark.org/calendar/wedding-celebration-44-2021-06-25/
CATEGORIES:JPC Event
END:VEVENT
BEGIN:VEVENT
DTSTART;TZID=America/New_York:20210624T093000
DTEND;TZID=America/New_York:20210624T103000
DTSTAMP:20260422T191523
CREATED:20210228T230241Z
LAST-MODIFIED:20210301T232609Z
UID:5795-1624527000-1624530600@aspinwallriverfrontpark.org
SUMMARY:Kindermusik
DESCRIPTION:Join Lynda\,(a local treasure)\, for music and dance with your toddler.  Along with the class here\, she has an online class which still brings her great personality to light! Check out her website for more information\, musicforalifetime.com Or give her a call and join this great program!!!!! Lynda 412.512.0477
URL:https://aspinwallriverfrontpark.org/calendar/kindermusik-73-2021-06-24/
CATEGORIES:Kindermusik
END:VEVENT
BEGIN:VEVENT
DTSTART;TZID=America/New_York:20210623T190000
DTEND;TZID=America/New_York:20210623T200000
DTSTAMP:20260422T191523
CREATED:20210510T210447Z
LAST-MODIFIED:20210510T210447Z
UID:6396-1624474800-1624478400@aspinwallriverfrontpark.org
SUMMARY:Bachata Dance Class
DESCRIPTION:Check out https://www.fortheloveofbachata.com/ \nLean a new dance at the Park!!!!
URL:https://aspinwallriverfrontpark.org/calendar/bachata-dance-class-4/
CATEGORIES:General
END:VEVENT
BEGIN:VEVENT
DTSTART;TZID=America/New_York:20210623T170000
DTEND;TZID=America/New_York:20210623T200000
DTSTAMP:20260422T191523
CREATED:20210616T151306Z
LAST-MODIFIED:20210616T151306Z
UID:6506-1624467600-1624478400@aspinwallriverfrontpark.org
SUMMARY:Taquitos!!!!
DESCRIPTION:Is there anything better than Taquitos?
URL:https://aspinwallriverfrontpark.org/calendar/taquitos/
CATEGORIES:Food Truck
END:VEVENT
BEGIN:VEVENT
DTSTART;TZID=America/New_York:20210623T093000
DTEND;TZID=America/New_York:20210623T103000
DTSTAMP:20260422T191523
CREATED:20210228T230241Z
LAST-MODIFIED:20210301T232609Z
UID:5794-1624440600-1624444200@aspinwallriverfrontpark.org
SUMMARY:Kindermusik
DESCRIPTION:Join Lynda\,(a local treasure)\, for music and dance with your toddler.  Along with the class here\, she has an online class which still brings her great personality to light! Check out her website for more information\, musicforalifetime.com Or give her a call and join this great program!!!!! Lynda 412.512.0477
URL:https://aspinwallriverfrontpark.org/calendar/kindermusik-73-2021-06-23/
CATEGORIES:Kindermusik
END:VEVENT
BEGIN:VEVENT
DTSTART;TZID=America/New_York:20210622T170000
DTEND;TZID=America/New_York:20210622T200000
DTSTAMP:20260422T191523
CREATED:20210616T151050Z
LAST-MODIFIED:20210616T151050Z
UID:6504-1624381200-1624392000@aspinwallriverfrontpark.org
SUMMARY:The Coop Chicken and Waffles
DESCRIPTION:Join us for dinner.
URL:https://aspinwallriverfrontpark.org/calendar/the-coop-chicken-and-waffles-2/
CATEGORIES:Food Truck
END:VEVENT
BEGIN:VEVENT
DTSTART;TZID=America/New_York:20210621T170000
DTEND;TZID=America/New_York:20210621T200000
DTSTAMP:20260422T191523
CREATED:20210616T150759Z
LAST-MODIFIED:20210616T150759Z
UID:6502-1624294800-1624305600@aspinwallriverfrontpark.org
SUMMARY:Boonseek Food Truck
DESCRIPTION:Join us for a Korean treat.  The sun is setting and dinner is being served.
URL:https://aspinwallriverfrontpark.org/calendar/boonseek-food-truck/
CATEGORIES:Food Truck
END:VEVENT
BEGIN:VEVENT
DTSTART;TZID=America/New_York:20210621T093000
DTEND;TZID=America/New_York:20210621T103000
DTSTAMP:20260422T191523
CREATED:20210228T230241Z
LAST-MODIFIED:20210301T232609Z
UID:5793-1624267800-1624271400@aspinwallriverfrontpark.org
SUMMARY:Kindermusik
DESCRIPTION:Join Lynda\,(a local treasure)\, for music and dance with your toddler.  Along with the class here\, she has an online class which still brings her great personality to light! Check out her website for more information\, musicforalifetime.com Or give her a call and join this great program!!!!! Lynda 412.512.0477
URL:https://aspinwallriverfrontpark.org/calendar/kindermusik-73-2021-06-21/
CATEGORIES:Kindermusik
END:VEVENT
BEGIN:VEVENT
DTSTART;TZID=America/New_York:20210620T170000
DTEND;TZID=America/New_York:20210620T210000
DTSTAMP:20260422T191523
CREATED:20210611T210129Z
LAST-MODIFIED:20210611T210129Z
UID:6497-1624208400-1624222800@aspinwallriverfrontpark.org
SUMMARY:Farmer x Baker
DESCRIPTION:Dinner and a sunset? Sounds great!!!!
URL:https://aspinwallriverfrontpark.org/calendar/farmer-x-baker-40/
CATEGORIES:Farmer+Baker
END:VEVENT
BEGIN:VEVENT
DTSTART;TZID=America/New_York:20210620T100000
DTEND;TZID=America/New_York:20210620T140000
DTSTAMP:20260422T191523
CREATED:20210301T220600Z
LAST-MODIFIED:20210301T220600Z
UID:5952-1624183200-1624197600@aspinwallriverfrontpark.org
SUMMARY:Farmer x Baker
DESCRIPTION:Join the super fantastic Farmer x Baker for brunch.  Coffee and a homemade bagel? Sounds great!  How about a vegan entrée for a light lunch? We got it!! What about a classic Bacon\, Egg and Cheese? We go it!
URL:https://aspinwallriverfrontpark.org/calendar/farmer-x-baker-33-2021-06-20/
CATEGORIES:Farmer+Baker
END:VEVENT
BEGIN:VEVENT
DTSTART;TZID=America/New_York:20210620T100000
DTEND;TZID=America/New_York:20210620T110000
DTSTAMP:20260422T191523
CREATED:20210503T202126Z
LAST-MODIFIED:20210503T202126Z
UID:6366-1624183200-1624186800@aspinwallriverfrontpark.org
SUMMARY:Yoga Flow
DESCRIPTION:Yoga! Yoga! Yoga! \nSign up at yogaflowpittsburgh.com
URL:https://aspinwallriverfrontpark.org/calendar/yoga-flow-35/
CATEGORIES:Yoga Flow
END:VEVENT
BEGIN:VEVENT
DTSTART;VALUE=DATE:20210620
DTEND;VALUE=DATE:20210621
DTSTAMP:20260422T191523
CREATED:20210301T221721Z
LAST-MODIFIED:20210301T221721Z
UID:6015-1624147200-1624233599@aspinwallriverfrontpark.org
SUMMARY:Wedding Celebration
DESCRIPTION:This wedding may take place on the fishing dock.  Please be gracious\, the ceremonies are usually under 45 minutes! The parking lot may be very crowded as well!  But please enjoy yourself.
URL:https://aspinwallriverfrontpark.org/calendar/wedding-celebration-44-2021-06-20/
CATEGORIES:JPC Event
END:VEVENT
END:VCALENDAR