BEGIN:VCALENDAR
VERSION:2.0
PRODID:-//Riverfront Park - ECPv6.15.18//NONSGML v1.0//EN
CALSCALE:GREGORIAN
METHOD:PUBLISH
X-ORIGINAL-URL:https://aspinwallriverfrontpark.org
X-WR-CALDESC:Events for Riverfront Park
REFRESH-INTERVAL;VALUE=DURATION:PT1H
X-Robots-Tag:noindex
X-PUBLISHED-TTL:PT1H
BEGIN:VTIMEZONE
TZID:America/New_York
BEGIN:DAYLIGHT
TZOFFSETFROM:-0500
TZOFFSETTO:-0400
TZNAME:EDT
DTSTART:20200308T070000
END:DAYLIGHT
BEGIN:STANDARD
TZOFFSETFROM:-0400
TZOFFSETTO:-0500
TZNAME:EST
DTSTART:20201101T060000
END:STANDARD
BEGIN:DAYLIGHT
TZOFFSETFROM:-0500
TZOFFSETTO:-0400
TZNAME:EDT
DTSTART:20210314T070000
END:DAYLIGHT
BEGIN:STANDARD
TZOFFSETFROM:-0400
TZOFFSETTO:-0500
TZNAME:EST
DTSTART:20211107T060000
END:STANDARD
BEGIN:DAYLIGHT
TZOFFSETFROM:-0500
TZOFFSETTO:-0400
TZNAME:EDT
DTSTART:20220313T070000
END:DAYLIGHT
BEGIN:STANDARD
TZOFFSETFROM:-0400
TZOFFSETTO:-0500
TZNAME:EST
DTSTART:20221106T060000
END:STANDARD
END:VTIMEZONE
BEGIN:VEVENT
DTSTART;VALUE=DATE:20210716
DTEND;VALUE=DATE:20210717
DTSTAMP:20260422T143635
CREATED:20210301T221721Z
LAST-MODIFIED:20210301T221721Z
UID:6025-1626393600-1626479999@aspinwallriverfrontpark.org
SUMMARY:Wedding Celebration
DESCRIPTION:This wedding may take place on the fishing dock.  Please be gracious\, the ceremonies are usually under 45 minutes! The parking lot may be very crowded as well!  But please enjoy yourself.
URL:https://aspinwallriverfrontpark.org/calendar/wedding-celebration-44-2021-07-16/
CATEGORIES:JPC Event
END:VEVENT
BEGIN:VEVENT
DTSTART;TZID=America/New_York:20210715T093000
DTEND;TZID=America/New_York:20210715T103000
DTSTAMP:20260422T143635
CREATED:20210228T230241Z
LAST-MODIFIED:20210301T232614Z
UID:5804-1626341400-1626345000@aspinwallriverfrontpark.org
SUMMARY:Kindermusik
DESCRIPTION:Join Lynda\,(a local treasure)\, for music and dance with your toddler.  Along with the class here\, she has an online class which still brings her great personality to light! Check out her website for more information\, musicforalifetime.com Or give her a call and join this great program!!!!! Lynda 412.512.0477
URL:https://aspinwallriverfrontpark.org/calendar/kindermusik-73-2021-07-15/
CATEGORIES:Kindermusik
END:VEVENT
BEGIN:VEVENT
DTSTART;TZID=America/New_York:20210715T080000
DTEND;TZID=America/New_York:20210715T170000
DTSTAMP:20260422T143635
CREATED:20210514T192340Z
LAST-MODIFIED:20210514T192340Z
UID:6424-1626336000-1626368400@aspinwallriverfrontpark.org
SUMMARY:Winchester Thurston Summer Camp
DESCRIPTION:
URL:https://aspinwallriverfrontpark.org/calendar/winchester-thurston-summer-camp-4/
CATEGORIES:General
END:VEVENT
BEGIN:VEVENT
DTSTART;TZID=America/New_York:20210715T063000
DTEND;TZID=America/New_York:20210715T103000
DTSTAMP:20260422T143635
CREATED:20210709T192044Z
LAST-MODIFIED:20210709T192135Z
UID:6604-1626330600-1626345000@aspinwallriverfrontpark.org
SUMMARY:Fox Chapel Crew Summer Camp
DESCRIPTION:
URL:https://aspinwallriverfrontpark.org/calendar/fox-chapel-crew-summer-camp-4/
CATEGORIES:Fox Chapel Crew
END:VEVENT
BEGIN:VEVENT
DTSTART;TZID=America/New_York:20210714T190000
DTEND;TZID=America/New_York:20210714T200000
DTSTAMP:20260422T143635
CREATED:20210510T211021Z
LAST-MODIFIED:20210510T211021Z
UID:6402-1626289200-1626292800@aspinwallriverfrontpark.org
SUMMARY:Bachata Dance Class
DESCRIPTION:Join our next session! \nCheck out https://www.fortheloveofbachata.com/
URL:https://aspinwallriverfrontpark.org/calendar/bachata-dance-class-7/
CATEGORIES:General
END:VEVENT
BEGIN:VEVENT
DTSTART;TZID=America/New_York:20210714T170000
DTEND;TZID=America/New_York:20210714T200000
DTSTAMP:20260422T143635
CREATED:20210625T224700Z
LAST-MODIFIED:20210625T224732Z
UID:6541-1626282000-1626292800@aspinwallriverfrontpark.org
SUMMARY:La Palapa Mexican Fare
DESCRIPTION:Mexican fare for the family.  Their first time here….. So come out and syupport the newcomers!!!!!
URL:https://aspinwallriverfrontpark.org/calendar/la-palapa/
CATEGORIES:Food Truck
END:VEVENT
BEGIN:VEVENT
DTSTART;TZID=America/New_York:20210714T093000
DTEND;TZID=America/New_York:20210714T103000
DTSTAMP:20260422T143635
CREATED:20210228T230241Z
LAST-MODIFIED:20210301T232614Z
UID:5803-1626255000-1626258600@aspinwallriverfrontpark.org
SUMMARY:Kindermusik
DESCRIPTION:Join Lynda\,(a local treasure)\, for music and dance with your toddler.  Along with the class here\, she has an online class which still brings her great personality to light! Check out her website for more information\, musicforalifetime.com Or give her a call and join this great program!!!!! Lynda 412.512.0477
URL:https://aspinwallriverfrontpark.org/calendar/kindermusik-73-2021-07-14/
CATEGORIES:Kindermusik
END:VEVENT
BEGIN:VEVENT
DTSTART;TZID=America/New_York:20210714T080000
DTEND;TZID=America/New_York:20210714T170000
DTSTAMP:20260422T143635
CREATED:20210514T192311Z
LAST-MODIFIED:20210514T192311Z
UID:6422-1626249600-1626282000@aspinwallriverfrontpark.org
SUMMARY:Winchester Thurston Summer Camp
DESCRIPTION:
URL:https://aspinwallriverfrontpark.org/calendar/winchester-thurston-summer-camp-3/
END:VEVENT
BEGIN:VEVENT
DTSTART;TZID=America/New_York:20210714T063000
DTEND;TZID=America/New_York:20210714T103000
DTSTAMP:20260422T143635
CREATED:20210709T191956Z
LAST-MODIFIED:20210709T191956Z
UID:6602-1626244200-1626258600@aspinwallriverfrontpark.org
SUMMARY:Fox Chapel Crew Summer Camp
DESCRIPTION:
URL:https://aspinwallriverfrontpark.org/calendar/fox-chapel-crew-summer-camp-3/
CATEGORIES:Fox Chapel Crew
END:VEVENT
BEGIN:VEVENT
DTSTART;TZID=America/New_York:20210713T170000
DTEND;TZID=America/New_York:20210713T200000
DTSTAMP:20260422T143635
CREATED:20210625T224446Z
LAST-MODIFIED:20210625T224446Z
UID:6539-1626195600-1626206400@aspinwallriverfrontpark.org
SUMMARY:Yovi's Food Truck!!!!
DESCRIPTION:MY man is back!!!!!
URL:https://aspinwallriverfrontpark.org/calendar/yovis-food-truck/
CATEGORIES:Food Truck
END:VEVENT
BEGIN:VEVENT
DTSTART;TZID=America/New_York:20210713T080000
DTEND;TZID=America/New_York:20210713T170000
DTSTAMP:20260422T143635
CREATED:20210514T192238Z
LAST-MODIFIED:20210514T192238Z
UID:6420-1626163200-1626195600@aspinwallriverfrontpark.org
SUMMARY:Winchester Thurston Summer Camp
DESCRIPTION:
URL:https://aspinwallriverfrontpark.org/calendar/winchester-thurston-summer-camp-2/
CATEGORIES:General
END:VEVENT
BEGIN:VEVENT
DTSTART;TZID=America/New_York:20210713T063000
DTEND;TZID=America/New_York:20210713T103000
DTSTAMP:20260422T143635
CREATED:20210709T191907Z
LAST-MODIFIED:20210709T191907Z
UID:6600-1626157800-1626172200@aspinwallriverfrontpark.org
SUMMARY:Fox Chapel Crew Summer Camp
DESCRIPTION:
URL:https://aspinwallriverfrontpark.org/calendar/fox-chapel-crew-summer-camp-2/
CATEGORIES:Fox Chapel Crew
END:VEVENT
BEGIN:VEVENT
DTSTART;TZID=America/New_York:20210712T170000
DTEND;TZID=America/New_York:20210712T200000
DTSTAMP:20260422T143635
CREATED:20210625T224348Z
LAST-MODIFIED:20210625T224348Z
UID:6537-1626109200-1626120000@aspinwallriverfrontpark.org
SUMMARY:Gyros n at
DESCRIPTION:
URL:https://aspinwallriverfrontpark.org/calendar/gyros-n-at/
CATEGORIES:Food Truck
END:VEVENT
BEGIN:VEVENT
DTSTART;TZID=America/New_York:20210712T093000
DTEND;TZID=America/New_York:20210712T103000
DTSTAMP:20260422T143635
CREATED:20210228T230241Z
LAST-MODIFIED:20210301T232614Z
UID:5802-1626082200-1626085800@aspinwallriverfrontpark.org
SUMMARY:Kindermusik
DESCRIPTION:Join Lynda\,(a local treasure)\, for music and dance with your toddler.  Along with the class here\, she has an online class which still brings her great personality to light! Check out her website for more information\, musicforalifetime.com Or give her a call and join this great program!!!!! Lynda 412.512.0477
URL:https://aspinwallriverfrontpark.org/calendar/kindermusik-73-2021-07-12/
CATEGORIES:Kindermusik
END:VEVENT
BEGIN:VEVENT
DTSTART;TZID=America/New_York:20210712T080000
DTEND;TZID=America/New_York:20210712T170000
DTSTAMP:20260422T143635
CREATED:20210514T192144Z
LAST-MODIFIED:20210514T192144Z
UID:6418-1626076800-1626109200@aspinwallriverfrontpark.org
SUMMARY:Winchester Thurston Summer Camp
DESCRIPTION:
URL:https://aspinwallriverfrontpark.org/calendar/winchester-thurston-summer-camp/
CATEGORIES:General
END:VEVENT
BEGIN:VEVENT
DTSTART;TZID=America/New_York:20210712T063000
DTEND;TZID=America/New_York:20210712T103000
DTSTAMP:20260422T143635
CREATED:20210709T191813Z
LAST-MODIFIED:20210709T191813Z
UID:6598-1626071400-1626085800@aspinwallriverfrontpark.org
SUMMARY:Fox Chapel Crew Summer Camp
DESCRIPTION:
URL:https://aspinwallriverfrontpark.org/calendar/fox-chapel-crew-summer-camp/
CATEGORIES:Fox Chapel Crew
END:VEVENT
BEGIN:VEVENT
DTSTART;TZID=America/New_York:20210711T100000
DTEND;TZID=America/New_York:20210711T140000
DTSTAMP:20260422T143635
CREATED:20210301T220600Z
LAST-MODIFIED:20210301T220600Z
UID:5958-1625997600-1626012000@aspinwallriverfrontpark.org
SUMMARY:Farmer x Baker
DESCRIPTION:Join the super fantastic Farmer x Baker for brunch.  Coffee and a homemade bagel? Sounds great!  How about a vegan entrée for a light lunch? We got it!! What about a classic Bacon\, Egg and Cheese? We go it!
URL:https://aspinwallriverfrontpark.org/calendar/farmer-x-baker-33-2021-07-11/
CATEGORIES:Farmer+Baker
END:VEVENT
BEGIN:VEVENT
DTSTART;VALUE=DATE:20210711
DTEND;VALUE=DATE:20210712
DTSTAMP:20260422T143635
CREATED:20210301T221721Z
LAST-MODIFIED:20210301T221721Z
UID:6024-1625961600-1626047999@aspinwallriverfrontpark.org
SUMMARY:Wedding Celebration
DESCRIPTION:This wedding may take place on the fishing dock.  Please be gracious\, the ceremonies are usually under 45 minutes! The parking lot may be very crowded as well!  But please enjoy yourself.
URL:https://aspinwallriverfrontpark.org/calendar/wedding-celebration-44-2021-07-11/
CATEGORIES:JPC Event
END:VEVENT
BEGIN:VEVENT
DTSTART;TZID=America/New_York:20210710T100000
DTEND;TZID=America/New_York:20210710T140000
DTSTAMP:20260422T143635
CREATED:20210301T220600Z
LAST-MODIFIED:20210301T220600Z
UID:5957-1625911200-1625925600@aspinwallriverfrontpark.org
SUMMARY:Farmer x Baker
DESCRIPTION:Join the super fantastic Farmer x Baker for brunch.  Coffee and a homemade bagel? Sounds great!  How about a vegan entrée for a light lunch? We got it!! What about a classic Bacon\, Egg and Cheese? We go it!
URL:https://aspinwallriverfrontpark.org/calendar/farmer-x-baker-33-2021-07-10/
CATEGORIES:Farmer+Baker
END:VEVENT
BEGIN:VEVENT
DTSTART;VALUE=DATE:20210710
DTEND;VALUE=DATE:20210711
DTSTAMP:20260422T143635
CREATED:20210301T221721Z
LAST-MODIFIED:20210301T221721Z
UID:6023-1625875200-1625961599@aspinwallriverfrontpark.org
SUMMARY:Wedding Celebration
DESCRIPTION:This wedding may take place on the fishing dock.  Please be gracious\, the ceremonies are usually under 45 minutes! The parking lot may be very crowded as well!  But please enjoy yourself.
URL:https://aspinwallriverfrontpark.org/calendar/wedding-celebration-44-2021-07-10/
CATEGORIES:JPC Event
END:VEVENT
BEGIN:VEVENT
DTSTART;VALUE=DATE:20210709
DTEND;VALUE=DATE:20210710
DTSTAMP:20260422T143635
CREATED:20210301T221721Z
LAST-MODIFIED:20210301T221721Z
UID:6022-1625788800-1625875199@aspinwallriverfrontpark.org
SUMMARY:Wedding Celebration
DESCRIPTION:This wedding may take place on the fishing dock.  Please be gracious\, the ceremonies are usually under 45 minutes! The parking lot may be very crowded as well!  But please enjoy yourself.
URL:https://aspinwallriverfrontpark.org/calendar/wedding-celebration-44-2021-07-09/
CATEGORIES:JPC Event
END:VEVENT
BEGIN:VEVENT
DTSTART;TZID=America/New_York:20210708T093000
DTEND;TZID=America/New_York:20210708T103000
DTSTAMP:20260422T143635
CREATED:20210228T230241Z
LAST-MODIFIED:20210301T232613Z
UID:5801-1625736600-1625740200@aspinwallriverfrontpark.org
SUMMARY:Kindermusik
DESCRIPTION:Join Lynda\,(a local treasure)\, for music and dance with your toddler.  Along with the class here\, she has an online class which still brings her great personality to light! Check out her website for more information\, musicforalifetime.com Or give her a call and join this great program!!!!! Lynda 412.512.0477
URL:https://aspinwallriverfrontpark.org/calendar/kindermusik-73-2021-07-08/
CATEGORIES:Kindermusik
END:VEVENT
BEGIN:VEVENT
DTSTART;TZID=America/New_York:20210707T190000
DTEND;TZID=America/New_York:20210707T200000
DTSTAMP:20260422T143635
CREATED:20210510T210913Z
LAST-MODIFIED:20210510T210913Z
UID:6400-1625684400-1625688000@aspinwallriverfrontpark.org
SUMMARY:Bachata Dance Class
DESCRIPTION:Want to join our next session? Check out https://www.fortheloveofbachata.com/
URL:https://aspinwallriverfrontpark.org/calendar/bachata-dance-class-6/
CATEGORIES:General
END:VEVENT
BEGIN:VEVENT
DTSTART;TZID=America/New_York:20210707T170000
DTEND;TZID=America/New_York:20210707T200000
DTSTAMP:20260422T143635
CREATED:20210623T202632Z
LAST-MODIFIED:20210623T202632Z
UID:6531-1625677200-1625688000@aspinwallriverfrontpark.org
SUMMARY:Steer and Wheel Burger Truck
DESCRIPTION:
URL:https://aspinwallriverfrontpark.org/calendar/steer-and-wheel-burger-truck-2/
CATEGORIES:Food Truck
END:VEVENT
BEGIN:VEVENT
DTSTART;TZID=America/New_York:20210707T093000
DTEND;TZID=America/New_York:20210707T103000
DTSTAMP:20260422T143635
CREATED:20210228T230241Z
LAST-MODIFIED:20210301T232613Z
UID:5800-1625650200-1625653800@aspinwallriverfrontpark.org
SUMMARY:Kindermusik
DESCRIPTION:Join Lynda\,(a local treasure)\, for music and dance with your toddler.  Along with the class here\, she has an online class which still brings her great personality to light! Check out her website for more information\, musicforalifetime.com Or give her a call and join this great program!!!!! Lynda 412.512.0477
URL:https://aspinwallriverfrontpark.org/calendar/kindermusik-73-2021-07-07/
CATEGORIES:Kindermusik
END:VEVENT
BEGIN:VEVENT
DTSTART;TZID=America/New_York:20210706T170000
DTEND;TZID=America/New_York:20210706T200000
DTSTAMP:20260422T143635
CREATED:20210623T202548Z
LAST-MODIFIED:20210623T202548Z
UID:6529-1625590800-1625601600@aspinwallriverfrontpark.org
SUMMARY:Tocayo Food Truck
DESCRIPTION:
URL:https://aspinwallriverfrontpark.org/calendar/tocayo-food-truck-3/
CATEGORIES:Food Truck
END:VEVENT
BEGIN:VEVENT
DTSTART;TZID=America/New_York:20210705T170000
DTEND;TZID=America/New_York:20210705T200000
DTSTAMP:20260422T143635
CREATED:20210623T202441Z
LAST-MODIFIED:20210623T202441Z
UID:6527-1625504400-1625515200@aspinwallriverfrontpark.org
SUMMARY:Udderly Fresh Rolled Ice Cream
DESCRIPTION:
URL:https://aspinwallriverfrontpark.org/calendar/udderly-fresh-rolled-ice-cream/
END:VEVENT
BEGIN:VEVENT
DTSTART;TZID=America/New_York:20210705T093000
DTEND;TZID=America/New_York:20210705T103000
DTSTAMP:20260422T143635
CREATED:20210228T230241Z
LAST-MODIFIED:20210301T232613Z
UID:5799-1625477400-1625481000@aspinwallriverfrontpark.org
SUMMARY:Kindermusik
DESCRIPTION:Join Lynda\,(a local treasure)\, for music and dance with your toddler.  Along with the class here\, she has an online class which still brings her great personality to light! Check out her website for more information\, musicforalifetime.com Or give her a call and join this great program!!!!! Lynda 412.512.0477
URL:https://aspinwallriverfrontpark.org/calendar/kindermusik-73-2021-07-05/
CATEGORIES:Kindermusik
END:VEVENT
BEGIN:VEVENT
DTSTART;TZID=America/New_York:20210704T120000
DTEND;TZID=America/New_York:20210704T140000
DTSTAMP:20260422T143635
CREATED:20210608T202520Z
LAST-MODIFIED:20210608T202520Z
UID:6485-1625400000-1625407200@aspinwallriverfrontpark.org
SUMMARY:Art in the Park
DESCRIPTION:Come on down and do art in the park. For kids of all ages.  This will take place by the playground
URL:https://aspinwallriverfrontpark.org/calendar/art-in-the-park-2/
CATEGORIES:Art Car
END:VEVENT
BEGIN:VEVENT
DTSTART;TZID=America/New_York:20210704T100000
DTEND;TZID=America/New_York:20210704T140000
DTSTAMP:20260422T143635
CREATED:20210301T220600Z
LAST-MODIFIED:20210301T220600Z
UID:5956-1625392800-1625407200@aspinwallriverfrontpark.org
SUMMARY:Farmer x Baker
DESCRIPTION:Join the super fantastic Farmer x Baker for brunch.  Coffee and a homemade bagel? Sounds great!  How about a vegan entrée for a light lunch? We got it!! What about a classic Bacon\, Egg and Cheese? We go it!
URL:https://aspinwallriverfrontpark.org/calendar/farmer-x-baker-33-2021-07-04/
CATEGORIES:Farmer+Baker
END:VEVENT
END:VCALENDAR